Workbook
Name 《不適合理由》: '《非表示》チェック表(アニメ映画)'!$P$6:$P$28
Name 《不適合理由》: '《非表示》チェック表(記録映画)'!$P$6:$P$26
Name 《不適合理由》: '《非表示》チェック表(劇映画)'!$P$6:$P$27
Name 《不適合理由》: #REF!
Name 《不適合理由》: #REF!
Name 《不適合理由》: #REF!
Name 《不明要件》: '《非表示》チェック表(アニメ映画)'!$O$6:$O$12
Name 《不明要件》: '《非表示》チェック表(記録映画)'!$O$6:$O$12
Name 《不明要件》: #REF!
Name 《不明要件》: #REF!
Name 《不明要件》: #REF!
Name 《不明要件》: #REF!
Name 《不明要件》: '《非表示》チェック表(劇映画)'!$O$6:$O$12
Name キャスト人件費: 支出!$Z$16
Name シナリオハンティング費: 支出!$X$16:$X$20
Name スタッフ人件費: 支出!$Y$16
Name スタッフ費・キャスト費: [1]支出!$R$16:$R$17
Name スタッフ費・キャスト費: [2]支出!$R$16:$R$17
Name スタッフ費・キャスト費: [3]支出!$R$16:$R$17
Name スタッフ費・キャスト費: [3]支出!$R$16:$R$17
Name スタッフ費・キャスト費: 支出!$T$16:$T$17
Name バリアフリー字幕制作費: [1]支出!$AK$15
Name バリアフリー字幕制作費: [2]支出!$AK$15
Name バリアフリー字幕制作費: [3]支出!$AK$15
Name バリアフリー字幕制作費: [3]支出!$AK$15
Name バリアフリー字幕制作費: 支出!$AM$15
Name ロケーションハンティング費: 支出!$AD$16:$AD$22
Name ロケーション費: 支出!$AE$16:$AE$24
Name 印刷費: #REF!
Name 印刷費: #REF!
Name 印刷費: #REF!
Name 運搬費: #REF!
Name 運搬費: #REF!
Name 運搬費: #REF!
Name 映像媒体費: 支出!$AA$16:$AA$18
Name 応募分野: [4]【非表示】分野・ジャンル!$A$1:$E$1
Name 音楽費: #REF!
Name 音楽費: 支出!$AH$16:$AH$23
Name 音声ガイド制作費: [1]支出!$AL$15
Name 音声ガイド制作費: [2]支出!$AL$15
Name 音声ガイド制作費: [3]支出!$AL$15
Name 音声ガイド制作費: [3]支出!$AL$15
Name 音声ガイド制作費: 支出!$AN$15
Name 会場費: [4]【非表示】経費一覧!$C$55:$C$56
Name 活動区分: [5]《非表示》分野・ジャンル!$A$1:$E$1
Name 活動区分: [6]総表!$N$1:$R$1
Name 感染症対策経費: [7]支出!$R$14:$R$18
Name 企画脚本費: 支出!$W$16:$W$20
Name 記録映画: 総表!#REF!
Name 記録費: #REF!
Name 記録費: #REF!
Name 記録費: #REF!
Name 稽古費: [4]【非表示】経費一覧!$C$2:$C$3
Name 劇映画: 総表!#REF!
Name 原作使用料: 支出!$W$17:$W$20
Name 航空・列車運賃の特別料金: 支出!$AP$16:$AP$18
Name 撮影費: 支出!$AB$16:$AB$19
Name 仕上費: 支出!$AK$16:$AK$20
Name 資料等購入費・作成費等: #REF!
Name 資料等購入費・作成費等: #REF!

Sheet 《非表示》チェック表(劇映画)
A1: 令和６年度文化芸術振興費補助金交付要望書チェック表
A2: 作品名： | C2: =IF(総表!#REF!=総表!$O$3,総表!#REF!,IF(総表!#REF!=総表!#REF!,総表!#REF!,IF(総表!#REF!=総表!#REF!,総表!#REF!,IF(総表!#REF!=総表!#REF!,総表!#REF!,"")))) -> #REF!
A3: 団体名： | C3: =IF(総表!#REF!=総表!$O$3,総表!#REF!,IF(総表!#REF!=総表!#REF!,総表!#REF!,IF(総表!#REF!=総表!#REF!,総表!#REF!,IF(総表!#REF!=総表!#REF!,総表!#REF!,"")))) -> #REF!
A5: ①【必要書類の確認】 | I5: ③【応募要件の確認】 | O5: 《不明要件》 | P5: 《不適合理由》
B6: 欠落なし | J6: 適合 | O6: ・提出期限 | P6: ・要望取下げの連絡があった
B7: 欠落あり（提出なしまたは必須項目に漏れあり） | K7: 団体要件 映画製作を主たる目的とする我が国の団体 | O7: ・完成時期 | P7: ・完成時期が定められた期間外
B8: 《提出のあった書類にチェック》 | L8: 1 法人格を有する団体 | O8: ・助成金算入可能経費 | P8: ・定められた完成時期より前に映画祭等で公開
L9: 2 任意団体 | O9: ・重複応募 | P9: ・助成金に算入できる経費が、活動区分に応じた助成金の額に満たない
C10: 総表 | K10: 活動要件 | O10: ・団体要件 | P10: ・文化庁の補助金や委託費等が支出される活動である
C11: 個表 | L11: 完成時期 単年度：R6.4.1～R7.3.31 | O11: ・実績要件 | P11: ・団体要件を満たしていない（映画製作を行うことを主たる目的としていない）
C12: 活動の収支予算（収入） | L12: 助成金に算入できる経費が助成金の総額以上 | O12: ・活動要件 | P12: ・団体要件を満たしていない（経理・監査等の会計組織を有していることが確認できない）
C13: 活動の収支予算（支出） | L13: 完成後1年以内に広く一般に公開される日本映画である | P13: ・団体要件を満たしていない（定款・規約等を有していない）
C14: スタッフ費・キャスト費内訳 | L14: 上映時間が1時間以上、予算総額が助成条件の額以上 | P14: ・団体要件を満たしていない（事務所を有していない）
C15: 団体概要 | L15: 完成形式：35mm以上のポジフィルム、DCP | P15: ・団体要件を満たしていない（財務諸表等を作成していない）
C16: 個人略歴（監督） | L16: 応募できない活動にあたらない | P16: ・団体要件を満たしていない（製作委員会名義での応募）
C17: 個人略歴（脚本） | K17: 実績要件 下記のいずれかが過去に映画を自ら製作した実績を有する | P17: ・団体要件を満たしていない（ ）
C18: 個人略歴（撮影） | K18: 応募団体、代表者・監督・プロデューサー、共同製作者、製作委員会所属団体 | P18: ・実績要件を満たしていない
C19: 個人略歴（プロデューサー） | J19: 不適合 | P19: ・活動要件を満たしていない（日本映画ではない）
C20: 応募要件確認書 | J20: 不明 | P20: ・活動要件を満たしていない（完成後1年以内に公開されない）
C21: 申告書 | K21: 《不明の要件》 | P21: ・活動要件を満たしていない（一般に広く公開されない）
C22: 定款・規約等 | P22: ・活動要件を満たしていない（無料で公開）
C23: 財務諸表（特別、Ａのみ） | P23: ・活動要件を満たしていない（上映時間が１時間未満）
P24: ・活動要件を満たしていない（予算総額が応募する活動区分に応じた助成条件の額に満たない）
P25: ・活動要件を満たしていない（完成形式が35mm以上のポジフィルム又はDCPではない）
P26: ・活動要件を満たしていない（ ）
C27: 映画製作実績資料 | P27: ・商業的、政治的又は宗教的な宣伝意図を有する活動である
C28: シナリオ 15部
A29: ④【連絡概要】
B30: ※要望者に連絡した日時及び提出期限を記入し、連絡手段にチェック
D31: 連絡日時 | I31: → | J31: 提出期限
D32: 手 段 | E32: 電話＋ メール、 その他
D33: 連絡内容 （提出を求めた書類）
B34: 《2回目》 | D34: 連絡日時 | I34: → | J34: 提出期限
D35: 手 段 | E35: 電話＋ メール、 その他
D36: 連絡内容 （提出を求めた書類）
C38: 《結果》
C39: 要望者と連絡がとれた
C40: 期限までに提出あり | I40: 提出日
C41: 期限までに提出なし
C42: 要望者と連絡がとれなかった
...

Sheet 《非表示》チェック表(記録映画)
A1: 令和６年度文化芸術振興費補助金交付要望書チェック表
A2: 作品名： | C2: =IF(総表!#REF!=総表!#REF!,総表!#REF!,IF(総表!#REF!=総表!#REF!,総表!#REF!,IF(総表!#REF!=総表!#REF!,総表!#REF!,""))) -> #REF!
A3: 団体名： | C3: =IF(総表!#REF!=総表!#REF!,総表!#REF!,IF(総表!#REF!=総表!#REF!,総表!#REF!,IF(総表!#REF!=総表!#REF!,総表!#REF!,""))) -> #REF!
A5: ①【必要書類の確認】 | I5: ②【応募要件の確認】 | O5: 《不明要件》 | P5: 《不適合理由》
B6: 欠落なし | J6: 適合 | O6: ・提出期限 | P6: ・要望取下げの連絡があった
B7: 欠落あり（提出なしまたは必須項目に漏れあり） | K7: 団体要件 映画製作を主たる目的とする我が国の団体 | O7: ・完成時期 | P7: ・完成時期が定められた期間外
B8: 《提出のあった書類にチェック》 | L8: 1 法人格を有する団体 | O8: ・助成金算入可能経費 | P8: ・定められた完成時期より前に映画祭等で公開
C9: 総表 | L9: 2 任意団体 | O9: ・重複応募 | P9: ・助成金に算入できる経費が、活動区分に応じた助成金の額に満たない
C10: 個表 | K10: 活動要件 | O10: ・団体要件 | P10: ・文化庁の補助金や委託費等が支出される活動である
C11: 活動の収支予算（収入） | L11: 完成時期 単年度：R6.4.1～R7.3.31 | O11: ・実績要件 | P11: ・団体要件を満たしていない（映画製作を行うことを主たる目的としていない）
C12: 活動の収支予算（収入） | L12: 助成金に算入できる経費が助成金の総額以上 | O12: ・活動要件 | P12: ・団体要件を満たしていない（経理・監査等の会計組織を有していることが確認できない）
C13: スタッフ費・キャスト費内訳 | L13: 完成後1年以内に広く一般に公開される日本映画である | P13: ・団体要件を満たしていない（定款・規約等を有していない）
C14: 団体概要 | L14: 上映時間が助成条件の時間以上、予算総額が助成条件の額以上 | P14: ・団体要件を満たしていない（事務所を有していない）
C15: 個人略歴（監督） | L15: 完成形式：16mm以上のポジフィルム・DCP・ビデオテープ等 | P15: ・団体要件を満たしていない（財務諸表等を作成していない）
C16: 個人略歴（撮影） | L16: 応募できない活動にあたらない | P16: ・団体要件を満たしていない（製作委員会名義での応募）
C17: 個人略歴（プロデューサー） | K17: 実績要件 下記のいずれかが過去に映画を自ら製作した実績を有する | P17: ・団体要件を満たしていない（ ）
C18: 応募要件確認書 | K18: 応募団体、代表者・監督・プロデューサー、共同製作者、製作委員会所属団体 | P18: ・実績要件を満たしていない
C19: 定款・規約等 | J19: 不適合 | P19: ・活動要件を満たしていない（日本映画ではない）
C20: 財務諸表（特別のみ） | J20: 不明 | P20: ・活動要件を満たしていない（完成後1年以内に公開されない）
C21: 映画製作実績資料 | K21: 《不明の要件》 | P21: ・活動要件を満たしていない（一般に広く公開されない）
C22: 企画書 | P22: ・活動要件を満たしていない（無料で公開）
C23: 映像資料 10部又はURL | P23: ・活動要件を満たしていない（上映時間が1時間未満（特別・Ａ））
C24: シノプシス 10部 | P24: ・活動要件を満たしていない（上映時間が20分未満（Ｂ））
P25: ・活動要件を満たしていない（ ）
P26: ・商業的、政治的又は宗教的な宣伝意図を有する活動である
A27: ③【連絡概要】
B28: ※要望者に連絡した日時及び提出期限を記入し、連絡手段にチェック
D29: 連絡日時 | I29: → | J29: 提出期限
D30: 手 段 | E30: 電話＋ メール、 その他
D31: 連絡内容 （提出を求めた書類）
B32: 《2回目》 | D32: 連絡日時 | I32: → | J32: 提出期限
D33: 手 段 | E33: 電話＋ メール、 その他
D34: 連絡内容 （提出を求めた書類）
C36: 《結果》
C37: 要望者と連絡がとれた
C38: 期限までに提出あり | I38: 提出日
C39: 期限までに提出なし
C40: 要望者と連絡がとれなかった
A42: 【最終判断】
B43: 適合 | D43: 不適合
...

Sheet 《非表示》チェック表(アニメ映画)
A1: 令和６年度文化芸術振興費補助金交付要望書チェック表
A2: 作品名： | C2: =IF(総表!#REF!=総表!#REF!,総表!#REF!,IF(総表!#REF!=総表!#REF!,総表!#REF!,IF(総表!#REF!=総表!#REF!,総表!#REF!,""))) -> #REF!
A3: 団体名： | C3: =IF(総表!#REF!=総表!#REF!,総表!#REF!,IF(総表!#REF!=総表!#REF!,総表!#REF!,IF(総表!#REF!=総表!#REF!,総表!#REF!,""))) -> #REF!
A5: ①【必要書類の確認】 | I5: ②【応募要件の確認】 | O5: 《不明要件》 | P5: 《不適合理由》
B6: 欠落なし | J6: 適合 | O6: ・提出期限 | P6: ・要望取下げの連絡があった
B7: 欠落あり（提出なしまたは必須項目に漏れあり） | K7: 団体要件 映画製作を主たる目的とする我が国の団体 | O7: ・完成時期 | P7: ・完成時期が定められた期間外
B8: 《提出のあった書類にチェック》 | L8: 1 法人格を有する団体 | O8: ・助成金算入可能経費 | P8: ・定められた完成時期より前に映画祭等で公開
C9: 総表 | L9: 2 任意団体 | O9: ・重複応募 | P9: ・助成金に算入できる経費（税抜き）が、活動区分に応じた助成金の額に満たない
C10: 個表 | K10: 活動要件 | O10: ・団体要件 | P10: ・文化庁の補助金や委託費等が支出される活動である
C11: 活動の収支予算（収入） | L11: 完成時期 単年度：R6.4.1～R7.3.31 | O11: ・実績要件 | P11: ・団体要件を満たしていない（映画製作を行うことを主たる目的としていない）
C12: 活動の収支予算（支出） | L12: 助成金に算入できる経費が助成金の総額以上 | O12: ・活動要件 | P12: ・団体要件を満たしていない（経理・監査等の会計組織を有していることが確認できない）
C13: スタッフ費・キャスト費内訳 | L13: 完成後1年以内に広く一般に公開される日本映画である | P13: ・団体要件を満たしていない（定款・規約等を有していない）
C14: 団体概要 | L14: 上映時間が助成条件の時間範囲内、予算総額が助成条件の額以上 | P14: ・団体要件を満たしていない（事務所を有していない）
C15: 個人略歴（監督） | L15: 完成形式：アニメーション技法によって製作 | P15: ・団体要件を満たしていない（財務諸表等を作成していない）
C16: 個人略歴（脚本） | L16: 応募できない活動にあたらない | P16: ・団体要件を満たしていない（製作委員会名義での応募）
C17: 個人略歴（プロデューサー） | K17: 実績要件 下記のいずれかが過去に映画を自ら製作した実績を有する | P17: ・団体要件を満たしていない（ ）
C18: 個人略歴（チーフアニメーター） | K18: 応募団体、代表者・監督・プロデューサー、共同製作者、製作委員会所属団体 | P18: ・実績要件を満たしていない
C19: 応募要件確認書 | J19: 不適合 | P19: ・活動要件を満たしていない（日本映画ではない）
C20: 定款・規約等 | J20: 不明 | P20: ・活動要件を満たしていない（完成後1年以内に公開されない）
C21: 財務諸表（特別のみ） | K21: 《不明の要件》 | P21: ・活動要件を満たしていない（一般に広く公開されない）
C22: 映画製作実績資料 | P22: ・活動要件を満たしていない（無料で公開）
C23: シノプシス 10部 | P23: ・活動要件を満たしていない（上映時間が1時間未満（長編））
C24: 絵コンテ 10部 | P24: ・活動要件を満たしていない（上映時間が1時間以上（短編Ａ・Ｂ））
C25: シナリオ 10部（絵コンテが未完成時のみ） | P25: ・活動要件を満たしていない（予算総額が応募する活動区分に応じた助成条件の額に満たない）
C26: イメージボード等 10部 | P26: ・活動要件を満たしていない（完成形式がアニメーション技法によるものではない）
C27: 監督のポートフォリオ 10部（短編Ａ・Ｂのみ） | P27: ・活動要件を満たしていない（ ）
P28: ・商業的、政治的又は宗教的な宣伝意図を有する活動である
A29: ③【連絡概要】
D30: 連絡日時 | I30: → | J30: 提出期限
D31: 連絡内容 （提出を求めた書類）
C33: 《結果》
C34: 要望者と連絡がとれた
C35: 期限までに提出あり | I35: 提出日
C36: 期限までに提出なし
C37: 要望者と連絡がとれなかった
A39: 【最終判断】
B40: 適合 | D40: 不適合
D41: 《理由》
A45: 【特記事項】
M47: 整理番号 | N47: =総表!#REF! -> #REF!

Sheet datas
A1: 【注意】本シートを編集・削除しないでください。
A2: 連携先 | B2: 行 | C2: 連携元 | D2: 連携内容
A3: 様式の種類 | D3: 日本映画製作支援事業・単年度助成
A4: 要望書登録/要望内容/活動名 | C4: 総表!C27 | D4: {=IF($C4="-","",IF(ISBLANK(INDIRECT($C4)),"",INDIRECT($C4)))}
A5: 要望書登録/要望内容/入場料 | C5: - | D5: {=IF($C5="-","",IF(ISBLANK(INDIRECT($C5)),"",INDIRECT($C5)))}
A6: 要望書登録/要望内容/共催者負担金 | C6: 総表!D43 | D6: {=IF($C6="-","",IF(ISBLANK(INDIRECT($C6)),"",INDIRECT($C6)))} -> 0
A7: 要望書登録/要望内容/控除税額計（C） | C7: - | D7: {=IF($C7="-","",IF(ISBLANK(INDIRECT($C7)),"",INDIRECT($C7)))}
A8: 要望書登録/要望内容/(ｲ)小計 | C8: 総表!D48 | D8: {=IF($C8="-","",IF(ISBLANK(INDIRECT($C8)),"",INDIRECT($C8)+OFFSET(INDIRECT($C8),1,0)+OFFSET(INDIRECT($C8),2,0)))}
A9: 要望書登録/要望内容/(ﾛ)自己負担金 | C9: 総表!D42 | D9: {=IF($C9="-","",IF(ISBLANK(INDIRECT($C9)),0,INDIRECT($C9)+OFFSET(INDIRECT($C9),5,0)))} -> 0
A10: 要望書登録/要望内容/対象経費（A） | C10: 総表!J42 | D10: {=IF($C10="-","",IF(ISBLANK(INDIRECT($C10)),"",INDIRECT($C10)))}
A11: 要望書登録/要望内容/要望額 | C11: - | D11: {=IF($C11="-","",IF(ISBLANK(INDIRECT($C11)),"",INDIRECT($C11)))}
A12: 要望書登録/要望内容/備考 | C12: 総表!J46 | D12: =IF($C12="-","",IF(ISBLANK(INDIRECT($C12)),"","助成金算入可能経費："&INDIRECT($C12)&"、本体額："&総表!#REF!&"、バリアフリー字幕制作費："&総表!#REF!&"、音声ガイド制作費："&総表!#REF!))
A13: 要望書登録/要望内容/文化庁チェック | C13: - | D13: {=IF($C13="-","",IF(ISBLANK(INDIRECT($C13)),"",INDIRECT($C13)))}
A14: 要望書登録/映画製作/時間 | C14: 総表!D28 | D14: {=IF($C14="-","",IF(ISBLANK(INDIRECT($C14)),"",INDIRECT($C14)))}
A15: 要望書登録/映画製作/製作期間（開始） | C15: 総表!C37 | D15: {=IF($C15="-","",IF(ISBLANK(INDIRECT($C15)),"",INDIRECT($C15)))} -> 0
A16: 要望書登録/映画製作/製作期間（終了） | C16: 総表!E37 | D16: {=IF($C16="-","",IF(ISBLANK(INDIRECT($C16)),"",INDIRECT($C16)))} -> 0
A17: 要望書登録/映画製作/完成形態 | C17: 総表!J28 | D17: {=IF($C17="-","",IF(ISBLANK(INDIRECT($C17)),"",INDIRECT($C17)))}
A18: 要望書登録/映画製作/監督 | C18: 総表!D31 | D18: {=IF($C18="-","",IF(ISBLANK(INDIRECT($C18)),"",INDIRECT($C18)))}
A19: 要望書登録/映画製作/脚本 | C19: 総表!D32 | D19: {=IF($C19="-","",IF(ISBLANK(INDIRECT($C19)),"",INDIRECT($C19)))}
A20: 要望書登録/映画製作/撮影 | C20: 総表!D33 | D20: {=IF($C20="-","",IF(ISBLANK(INDIRECT($C20)),"",INDIRECT($C20)))}
A21: 要望書登録/映画製作/出演者 | C21: 総表!D30 | D21: {=IF($C21="-","",IF(ISBLANK(INDIRECT($C21)),"",INDIRECT($C21)))}
A22: 要望書登録/映画製作/配給会社 | C22: 総表!D29 | D22: {=IF($C22="-","",IF(ISBLANK(INDIRECT($C22)),"",INDIRECT($C22)))} -> 0
A23: 要望書登録/映画製作/公開予定時期（開始） | C23: 総表!C38 | D23: {=IF($C23="-","",IF(ISBLANK(INDIRECT($C23)),"",INDIRECT($C23)))} -> 0
A24: 要望書登録/映画製作/公開予定時期（終了） | C24: 総表!E38 | D24: {=IF($C24="-","",IF(ISBLANK(INDIRECT($C24)),"",INDIRECT($C24)))} -> 0
... A32: 要望書登録/基金/文書番号 要望書登録/補助金/文書番号 | C32: - | D32: {=IF($C32="-","",IF(ISBLANK(INDIRECT($C32)),"",INDIRECT($C32)))}
A33: 要望書登録/活動場所/開始日 | B33: 1 | C33: - | D33: {=IF($C33="-","",IF(ISBLANK(INDIRECT($C33)),"",INDIRECT($C33)))}
A34: 要望書登録/活動場所/終了日 | B34: 1 | C34: - | D34: {=IF($C34="-","",IF(ISBLANK(INDIRECT($C34)),"",INDIRECT($C34)))}
A35: 要望書登録/活動場所/活動場所 | B35: 1 | C35: - | D35: {=IF($C35="-","",IF(ISBLANK(INDIRECT($C35)),"",INDIRECT($C35))&IF(OFFSET(INDIRECT($C35),0,2)&OFFSET(INDIRECT($C35),0,3)="","","("&OFFSET(INDIRECT($C35),0,2)&OFFSET(INDIRECT($C35),0,3)&")"))}
A36: 要望書登録/活動場所/開始日 | B36: 2 | C36: - | D36: {=IF($C36="-","",IF(ISBLANK(INDIRECT($C36)),"",INDIRECT($C36)))}
A37: 要望書登録/活動場所/終了日 | B37: 2 | C37: - | D37: {=IF($C37="-","",IF(ISBLANK(INDIRECT($C37)),"",INDIRECT($C37)))}
A38: 要望書登録/活動場所/活動場所 | B38: 2 | C38: - | D38: {=IF($C38="-","",IF(ISBLANK(INDIRECT($C38)),"",INDIRECT($C38))&IF(OFFSET(INDIRECT($C38),0,2)&OFFSET(INDIRECT($C38),0,3)="","","("&OFFSET(INDIRECT($C38),0,2)&OFFSET(INDIRECT($C38),0,3)&")"))}
A39: 要望書登録/活動場所/開始日 | B39: 3 | C39: - | D39: {=IF($C39="-","",IF(ISBLANK(INDIRECT($C39)),"",INDIRECT($C39)))}
A40: 要望書登録/活動場所/終了日 | B40: 3 | C40: - | D40: {=IF($C40="-","",IF(ISBLANK(INDIRECT($C40)),"",INDIRECT($C40)))}
A41: 要望書登録/活動場所/活動場所 | B41: 3 | C41: - | D41: {=IF($C41="-","",IF(ISBLANK(INDIRECT($C41)),"",INDIRECT($C41))&IF(OFFSET(INDIRECT($C41),0,2)&OFFSET(INDIRECT($C41),0,3)="","","("&OFFSET(INDIRECT($C41),0,2)&OFFSET(INDIRECT($C41),0,3)&")"))}
A42: 要望書登録/活動場所/開始日 | B42: 4 | C42: - | D42: {=IF($C42="-","",IF(ISBLANK(INDIRECT($C42)),"",INDIRECT($C42)))}
A43: 要望書登録/活動場所/終了日 | B43: 4 | C43: - | D43: {=IF($C43="-","",IF(ISBLANK(INDIRECT($C43)),"",INDIRECT($C43)))}
A44: 要望書登録/活動場所/活動場所 | B44: 4 | C44: - | D44: {=IF($C44="-","",IF(ISBLANK(INDIRECT($C44)),"",INDIRECT($C44))&IF(OFFSET(INDIRECT($C44),0,2)&OFFSET(INDIRECT($C44),0,3)="","","("&OFFSET(INDIRECT($C44),0,2)&OFFSET(INDIRECT($C44),0,3)&")"))}
A45: 要望書登録/活動場所/開始日 | B45: 5 | C45: - | D45: {=IF($C45="-","",IF(ISBLANK(INDIRECT($C45)),"",INDIRECT($C45)))}
A46: 要望書登録/活動場所/終了日 | B46: 5 | C46: - | D46: {=IF($C46="-","",IF(ISBLANK(INDIRECT($C46)),"",INDIRECT($C46)))}
A47: 要望書登録/活動場所/活動場所 | B47: 5 | C47: - | D47: {=IF($C47="-","",IF(ISBLANK(INDIRECT($C47)),"",INDIRECT($C47))&IF(OFFSET(INDIRECT($C47),0,2)&OFFSET(INDIRECT($C47),0,3)="","","("&OFFSET(INDIRECT($C47),0,2)&OFFSET(INDIRECT($C47),0,3)&")"))}
...

Sheet 総表
A1: 様式第１３号（第１５条関係） 【総表】 | L1: 単年度助成の様式です。
A2: 令和８年度 文化芸術振興費補助金助成対象活動実績報告書 （日本映画製作支援事業 第１回募集分） | O2: プルダウンから選択してください。 | P2: 0
A3: 独立行政法人日本芸術文化振興会理事長 殿 令和●年●月●日付け芸基文第●号交付決定通知書により助成金の交付の決定を受けた助成対象活動の実績について、文化芸術振興費補助金による助成金交付要綱第１５条第１項の規定に基づき、下記のとおり報告します。 | O3: 劇映画（特別） | P3: 21400000 | Q3: =P3*1.3 -> 27820000 | R3: 有
F4: 団体名 | H4: =C15 -> 0 | L4: 【記入要領】 | O4: 劇映画（A） | P4: 10700000 | Q4: =P4*1.3 -> 13910000 | R4: 無
F5: 代表者役職 | H5: =C16 -> 0 | L5: ・背景がグレーの欄は項目名であるか、又は他の欄の記載から自動転記されます。記入しないでください。 | O5: 劇映画（B） | P5: 5350000 | Q5: =P5*1.3 -> 6955000
F6: 代表者氏名 | H6: =C17 -> 0 | O6: 劇映画（B）若手・新進映画作家支援 | P6: 8239000 | Q6: =P6*1.3 -> 10710700
A7: 提出年月日 | L7: ・日付は2027/03/31までで入力してください。 | O7: 記録映画（特別） | P7: 16050000
A8: 助成期間区分 | B8: 単年度助成 | L8: ・活動が「単年度助成」で間違いがないかどうかを確認してください。 | O8: 記録映画（A） | P8: 5350000
A9: 活動区分 | B9: 日本映画製作支援事業 | O9: 記録映画（B） | P9: 2140000
B10: 活動区分 | C10: プルダウンから選択してください。 | L10: ・活動区分をプルダウンメニューから選択してください。 | O10: アニメーション映画（長編） | P10: 21400000
A11: 団体情報 | B11: 団体住所（所在地）〒 | D11: - | L11: ・団体の住所、団体名、代表者役職名、代表者氏名について 交付要望書の「団体概要」と内容を同一にしてください。 | O11: アニメーション映画（短編A） | P11: 3210000
B12: 団体住所（所在地） | C12: 都道府県 | D12: 市区町村 | H12: 左記以外 | O12: アニメーション映画（短編B） | P12: 1070000
C13: 選択してください
B14: 団体名（フリガナ） | L14: ・団体名フリガナは、法人名称（株式会社等）を除いた、それ以外の部分のみ記入してください。 （例）フリガナ：ゲイブンシン 団体名 ：株式会社げいぶんしん | P14: 完成形式
B15: 団体名（製作者） | O15: 劇映画（特別） | P15: DCP | Q15: 35mm以上のポジフィルム
B16: 代表者役職名 | O16: 劇映画（A） | P16: DCP | Q16: 35mm以上のポジフィルム
B17: 代表者氏名 | O17: 劇映画（B） | P17: DCP | Q17: 35mm以上のポジフィルム
B18: 電話番号 | O18: 記録映画（特別） | P18: DCP | Q18: 16mm以上のポジフィルム | R18: Blu-ray | S18: DVD | T18: ビデオテープ | U18: その他（具体的に）
A19: 担当者情報 | B19: 関係書類送付先〒 | D19: - | L19: ・活動終了後も実務担当者と必ず連絡の取れる連絡先を記入してください。 | O19: 記録映画（A） | P19: DCP | Q19: 16mm以上のポジフィルム | R19: Blu-ray | S19: DVD | T19: ビデオテープ | U19: その他（具体的に）
B20: 関係書類送付先住所 | C20: 都道府県 | D20: 市区町村 | H20: 左記以外 | O20: 記録映画（B） | P20: DCP | Q20: 16mm以上のポジフィルム | R20: Blu-ray | S20: DVD | T20: ビデオテープ | U20: その他（具体的に）
C21: 選択してください | O21: アニメーション映画（長編） | P21: DCP | Q21: 16mm以上のポジフィルム | R21: Blu-ray | S21: DVD | T21: ビデオテープ | U21: その他（具体的に）
B22: 担当部署名または役職名 | O22: アニメーション映画（短編A） | P22: DCP | Q22: 16mm以上のポジフィルム | R22: Blu-ray | S22: DVD | T22: ビデオテープ | U22: その他（具体的に）
B23: 担当者氏名 | L23: ・担当者名欄には、1名のみ記入してください。 | O23: アニメーション映画（短編B） | P23: DCP | Q23: 16mm以上のポジフィルム | R23: Blu-ray | S23: DVD | T23: ビデオテープ | U23: その他（具体的に）
B24: 担当者電話番号 | L24: ・電話番号は半角数字で記載してください。例：00-0000-0000
B25: E-mail | L25: ・活動終了後も連絡の取れるアドレスの記載をお願いします。
A26: 要望内容 | B26: 作品名（フリガナ） | L26: ・作品名とフリガナを記入してください。 「 」は作品名に含まれる場合を除き、不要です。
B27: 作 品 名
B28: 作品概要 | C28: 上映時間 | G28: 分 | H28: 完成形式 | L28: ・上映時間を記入し、完成形態を選択してください。
C29: 配給会社 | D29: =個表!E55 -> 0 | L29: ・「個表」シートの配給会社欄から自動転記されます。
C30: 主な出演者 | L30: ・主な出演者、監督、脚本、撮影、プロデューサー、チーフアニメーターについては、 名前のみ記入してください。（個表に記入した名前と同一にしてください。）
C31: 監督
C32: 脚本（劇・アニメのみ）
C33: 撮影（劇・記録のみ）
C34: プロデューサー
C35: チーフアニメーター （アニメのみ） | L35: ・作品に原作がある場合は「有」、原作がない場合は「無」を選択してください。 「有」を選択した場合は、原作名、原作者名を記入してください。
C36: 原作の有無 | D36: 有 | E36: 原作名 | I36: 原作者名
B37: 製作期間 | C37: =個表!E48 -> 0 | D37: ～ | E37: =個表!G50 -> 0 | H37: 完成試写予定 | J37: =個表!L50 -> 0 | L37: ・「個表」シートの製作スケジュールから自動転記されます。
B38: 公開予定時期 | C38: =個表!E53 -> 0 | D38: ～ | E38: =個表!G53 -> 0 | H38: ="（"&個表!H53&個表!I53&"）" -> （週間） | L38: ・「個表」シートの公開予定時期から自動転記されます。
B39: 映適申請の有無 | C39: 【劇映画のみ】 | H39: 映適：認定時期 | J39: 令和 年 月 | L39: ・【劇映画区分/申請した活動のみ】映適申請の有無をプルダウンメニューから選択してください。
B40: 助成金の額（千円） | C40: 助成金の額（本体事業費） | D40: =IF($C$10=$O$2,$P$2,IF($C$10=$O$3,$P$3,IF($C$10=$O$4,$P$4,IF($C$10=$O$5,$P$5,IF($C$10=$O$6,$P$6,IF($C$10=$O$7,$P$7,IF($C$10=$O$8,$P$8,IF($C$10=$O$9,$P$9,IF($C$10=$O$10,$P$10,IF($C$10=$O$11,$P$11,IF($C$10=$O$12,$P$12))))))))))) -> 0 | H40: 映適による作品認定を 受けた場合の助成金の額（本体事業費） | J40: =IF($D$39="有", ROUND($D$40*1.3, -1), $D$40) -> 0 | L40: ・映適事務局から認定をされた時期を記入してください。
...

Sheet 個表
B1: 作品名 | D1: =総表!C27 -> 0 | H1: 団体名 | I1: =総表!C15 -> 0 | R1: 【記入要領】 セル内で改行される場合は「ALT+ENTER」を同時に押して改行してください。
B2: 活動の目的及び内容 | C2: 本活動の企画意図・目的 | R2: ≪本活動の企画意図・目的≫
A3: 1 | C3: ≪要望書・助成金交付申請書に記載した内容と同じ内容を記載してください。≫ | R3: ・要望書・助成金交付申請書に記載した内容と同じ内容を記載してください。 ・10行以内でご記入ください。
A4: 2
A5: 3
A6: 4
A7: 5
A8: 6
A9: 7
A10: 8
A11: 9
A12: 10
C13: 若手・新進映画作家を起用した理由・効果※劇映画Ｂ区分で若手・新進映画作家支援の応募をする場合のみ記載 | R13: ≪若手・新進映画作家を起用した理由・効果≫
A14: 1 | C14: ≪要望書・助成金交付申請書に記載した内容と同じ内容を記載してください。≫ | R14: ・要望書・助成金交付申請書に記載した内容と同じ内容を記載してください。 ・5行以内でご記入ください。
A15: 2
A16: 3
A17: 4
A18: 5
C19: 助成金を得ることで期待できる効果 | R19: ≪助成金を得ることで期待できる効果≫
A20: 1 | C20: ≪要望書・助成金交付申請書に記載した内容と同じ内容を記載してください。≫ | R20: ・要望書・助成金交付申請書に記載した内容と同じ内容を記載してください。 ・10行以内でご記入ください。
A21: 2
A22: 3
A23: 4
A24: 5
A25: 6
A26: 7
A27: 8
A28: 9
A29: 10
C30: 内容の概略 | R30: ≪内容の概略≫
A31: 1 | C31: ≪最終的なあらすじや企画内容の特色・アピールポイント等を簡潔に記入してください≫ | R31: ・最終的なあらすじや企画内容の特色・アピールポイント等を簡潔に記入してください。 ・12行以内でご記入ください。
A32: 2
A33: 3
A34: 4
A35: 5
A36: 6
A37: 7
A38: 8
A39: 9
A40: 10
...

Sheet 収入
A1: 作品名 | B1: =総表!C27 -> 0 | E1: 団体名 | F1: =総表!C15 -> 0
B3: 収入総額（円） | E3: =G11 -> 0
C4: 自己出資金 | E4: =G13 -> 0
C5: 共同製作者負担金（出資） | E5: =G15 -> 0
C6: 補助金・助成金 | E6: =G28 -> 0
C7: 寄付金・協賛金 | E7: =G34 -> 0
C8: その他収入 | E8: =G40 -> 0
A10: 区分 | B10: 項目 | C10: 製作幹事 | D10: 内訳 | E10: 確定状況 | F10: 金額（円） | G10: 小計（円） | I10: 【記入要領】
A11: 収入総額 | G11: =SUM(G13,G15,G28,G34,G40) -> 0 | I11: 全て税込みで記入してください。
B12: 自己出資金 | I12: 本活動の製作における応募団体の出資金（配給にかかる出資金は除く）を記載してください。出資をしていない団体は助成対象となりません。 製作幹事の場合は、プルダウンメニューより○を選択してください。
D13: =総表!C15 -> 0 | E13: 確定 | G13: =SUM(F13:F13) -> 0
B14: 共同製作者負担金（出資） | I14: ・完成した作品の著作権者となる者（法人・個人を問わない。）の名前、共同制作契約書に記入されている出資金額（配給・宣伝費を除く。）を全て記入してください。（申請団体名は記入しないこと。） ・製作幹事の場合は、プルダウンメニューから○を選択してください。 ・実績報告書提出時の確定状況について、プルダウンメニューから「確定」「交渉中」「予定」のいずれかを必ず選択してください。
B15: . | G15: =SUM(F15:F26) -> 0
B27: 補助金・助成金 | I27: 文化芸術振興費補助金（当事業）以外の補助金、助成金について記入してください。 また、実績報告書提出時の確定状況について、プルダウンメニューから「決定」「申請中」「申請予定」のいずれかを必ず選択してください。
B28: . | G28: =SUM(F28:F32) -> 0
B33: 寄付金・協賛金 | I33: 企業、個人等からの寄付金、協賛金、クラウドファンディングについて記入してください。 また、実績報告書提出時の確定状況について、プルダウンメニューから、寄付金・協賛金は「確定」「交渉中」「予定」、クラウドファンディングは「達成」「実施中」「実施予定」のいずれかを必ず選択してください。
B34: . | G34: =SUM(F34:F38) -> 0
B39: その他収入 | I39: 上記以外の収入として計上したものがあれば記入してください。 テレビ放送等を目的として製作された既存の映像を使用する場合には、当該番組の放映料収入も記入してください。 なお、チケット、DVD及び関連グッズ等の販売による収入については、記入する必要はありません。
B40: . | G40: =SUM(F40:F44) -> 0
B44: j
E45: 整理番号 | F45: =総表!J50 -> 0

Sheet 支出
B1: 作品名 | E1: =総表!C27 -> 0 | H1: 団体名 | I1: =総表!C15 -> 0
B2: 消費税等仕入控除税額の取扱 | F2: =総表!C50 -> 課税事業者
C4: 支出総額（予算総額）（円） | G4: =G5+G13 -> 0 | H4: R8.4.1～R9.3.31に 支払いが完了した経費
D5: 助成対象経費（A） | G5: =SUM(G6:G12) -> 0 | H5: =SUM(H6:H8) -> 0
E6: 製作企画費 | G6: =L19 -> 0 | H6: =N19 -> 0
E7: スタッフ費・キャスト費 | G7: =L30 -> 0 | H7: =N30 -> 0
E8: 製作費 | G8: =L33 -> 0 | H8: =N33 -> 0
E9: 消費税等仕入控除税額（C） | H9: =IF($F$2="免税事業者及び簡易課税事業者","",ROUNDDOWN((H5-O18)*10/110,0)) -> 0
E10: 助成金算定経費の合計額（D） | H10: =IF(F2="免税事業者及び簡易課税事業者",H5,(H5-H9)) -> 0 | I10: =IF(総表!D40>H10,"←交付を受けようとする助成金の金額未満です。","")
E11: バリアフリー字幕制作費 | G11: =L82 -> 0
E12: 音声ガイド制作費 | G12: =L90 -> 0
D13: 助成対象外経費(Ｂ） | G13: =L97 -> 0
Q14: 【記入要領】
B15: 区分 | D15: 項目 | E15: 細目 | F15: 内訳 | G15: 備考 | H15: 支払先 | I15: 金額 （円／税込） | J15: 左記のうちR8.4.1～R9.3.31に支払いが完了した経費 （円／税込） | K15: 課税対象外経費 | L15: 小計（円） | M15: R7.4.1～R8.3.31に 支払いが完了した経費 小計（円） | N15: 左記のうちR8.4.1～R9.3.31に 支払いが完了した経費 | O15: 課税対象外経費 | Q15: ・すべて税込金額を記載してください。 | S15: 製作企画費 | T15: スタッフ費・キャスト費 | U15: 製作費 | V15: 助成対象外経費 | W15: 企画脚本費 | X15: シナリオハンティング費 | Y15: スタッフ人件費 | Z15: キャスト人件費 | AA15: 映像媒体費 | AB15: 撮影費 | AC15: 照明費 | AD15: ロケーションハンティング費 | AE15: ロケーション費 | AF15: 美術費 | AG15: 特殊撮影費 | AH15: 音楽費 | AI15: 録音費 | AJ15: 編集費 | AK15: 仕上費 | AL15: 新型コロナウイルス感染症対策経費 | AM15: バリアフリー字幕制作費 | AN15: 音声ガイド制作費 | AO15: 製作発表に係る経費 | AP15: 航空・列車運賃の特別料金
B16: 支出総額（予算総額） | L16: =SUM(L17,L97) -> 0 | N16: 小計（円） | O16: 小計（円） | Q16: ・「細目」「内訳」をプルダウンメニューから選択し、金額を手入力してください。 ・該当する「内訳」がない場合は、細目を選択後、「内訳」のプルダウンメニューから空白を選択し、手入力してください。 ・備考欄は特記することがあれば記載してください。 ・支払先が複数ある場合は、主要な１者のみを記載し、「●●社ほか」のように記載してください。未定の場合は空欄としてください。 ・「金額」欄には総額を記入し、そのうちR8.4.1～R9.3.31に支払う金額を「左記のうちR8.4.1～R9.3.31に支払う金額」欄に記入してください。 この経費の総額が交付を受けようとする助成金の額を超えている必要があります。 ・「課税対象外経費」に該当する経費は、プルダウンメニューから「○」を選択してください。（免税事業者及び簡易課税事業者は記入不要） ・記載しきれない場合は、行を増やさずに項目をまとめて記載してください。 | S16: 企画脚本費 | T16: スタッフ人件費 | U16: 映像媒体費 | V16: 製作発表に係る経費 | W16: 原作使用料 | X16: 旅費 | Y16: （別紙参照） | Z16: （別紙参照） | AA16: 撮影メディア費 | AB16: 撮影機材使用料 | AC16: 照明機材使用料 | AD16: 旅費 | AE16: 旅費 | AF16: 大道具 | AG16: 日本語字幕制作撮影 | AH16: 作曲料 | AI16: スタジオ費 | AJ16: ワーク編集費 | AK16: 上映用ＤＣＰ作成費 | AO16: 製作発表資料印刷費 | AP16: ファーストクラス料金
C17: 助成対象経費 | L17: =SUM(L19,L30,L33,L82,L90) -> 0 | M17: =SUM(M19:M80) -> 0 | N17: =SUM(N19,N33,N30) -> 0 | O17: =SUM(O19:O80) -> 0 | S17: シナリオハンティング費 | T17: キャスト人件費 | U17: 撮影費 | V17: 航空・列車運賃の特別料金 | W17: 脚本料 | X17: 現地交通費 | AA17: 現像費 | AB17: 同録音機材使用料 | AC17: 付属機材使用料 | AD17: 現地交通費 | AE17: 現地交通費 | AF17: 小道具 | AG17: 動画作画撮影 | AH17: 編曲料 | AI17: 技術員費 | AJ17: オンライン編集費 | AK17: グレーディング | AO17: スチール撮影費 | AP17: グリーン車料金
D18: 製作企画費 | U18: 照明費 | W18: 調査資料代 | X18: 宿泊費 | AB18: 機材運搬費 | AC18: 機材運搬費 | AD18: 宿泊費 | AE18: 宿泊費 | AF18: 衣裳費 | AG18: 高速度装置 | AH18: 選曲料 | AI18: ダビング費 | AJ18: 編集室使用料 | AK18: 映倫審査料
A19: 1 | D19: . | L19: =SUM(I19:I28) -> 0 | M19: =J19 -> 0 | N19: =SUM(M19:M28) -> 0 | O19: =IF(K19="○",IF(K19="○",J19,""),"") | U19: ロケーションハンティング費 | W19: 台本印刷費 | X19: 日当 | AD19: 日当 | AE19: 日当 | AF19: メイク費 | AG19: 微速度装置 | AH19: 音楽著作権料 | AI19: 擬音効果費
A20: 2 | D20: =IF(E20="","",".") | M20: =J20 -> 0 | O20: =IF(K20="○",IF(K20="○",J20,""),"") | U20: ロケーション費 | AD20: 渉外費 | AE20: 現地機材運搬費 | AG20: 航空撮影費 | AH20: 指揮料 | AI20: 録音テープ費
A21: 3 | D21: =IF(E21="","",".") | M21: =J21 -> 0 | O21: =IF(K21="○",IF(K21="○",J21,""),"") | U21: 美術費 | AD21: 車両費 | AE21: 通信連絡費 | AH21: 演奏楽器使用料
A22: 4 | D22: =IF(E22="","",".") | M22: =J22 -> 0 | O22: =IF(K22="○",IF(K22="○",J22,""),"") | U22: 特殊撮影費 | AE22: 車両費 | AH22: スタジオ費
A23: 5 | D23: =IF(E23="","",".") | M23: =J23 -> 0 | O23: =IF(K23="○",IF(K23="○",J23,""),"") | U23: 音楽費 | AE23: ロケ地使用料
A24: 6 | D24: =IF(E24="","",".") | M24: =J24 -> 0 | O24: =IF(K24="○",IF(K24="○",J24,""),"") | U24: 録音費
A25: 7 | D25: =IF(E25="","",".") | M25: =J25 -> 0 | O25: =IF(K25="○",IF(K25="○",J25,""),"") | U25: 編集費
A26: 8 | D26: =IF(E26="","",".") | M26: =J26 -> 0 | O26: =IF(K26="○",IF(K26="○",J26,""),"") | U26: 仕上費
A27: 9 | D27: =IF(E27="","",".") | M27: =J27 -> 0 | O27: =IF(K27="○",IF(K27="○",J27,""),"") | U27: 映適審査料
A28: 10 | D28: =IF(E28="","",".") | M28: =J28 -> 0 | O28: =IF(K28="○",IF(K28="○",J28,""),"") | U28: バリアフリー字幕制作費
D29: スタッフ費・キャスト費 | Q29: ・スタッフ、キャスト人件費については、「スタッフ費内訳」「キャスト費内訳」のシートに詳細を記入してください。各シートの内容が自動転記されます。 | U29: 音声ガイド制作費
A30: 11 | D30: . | E30: スタッフ人件費 | F30: （別紙参照） | I30: =スタッフ費内訳!I54 -> 0 | J30: =スタッフ費内訳!J54 -> 0 | L30: =SUM(I30:I31) -> 0 | M30: =J30 -> 0 | N30: =SUM(M30:M31) -> 0 | O30: =IF(K30="○",IF(K30="○",J30,""),"") | S30: →G列～は名前つけの為の列なので後ほど隠します。
A31: 12 | D31: . | E31: キャスト人件費 | F31: （別紙参照） | I31: =キャスト費内訳!I43 -> 0 | J31: =キャスト費内訳!J43 -> 0 | M31: =J31 -> 0 | O31: =IF(K31="○",IF(K31="○",J31,""),"")
D32: 製作費
A33: 13 | D33: . | L33: =SUM(I33:I80) -> 0 | M33: =J33 -> 0 | N33: =SUM(M33:M80) -> 0 | O33: =IF(K33="○",IF(K33="○",J33,""),"")
A34: 14 | D34: =IF(E34="","",".") | M34: =J34 -> 0 | O34: =IF(K34="○",IF(K34="○",J34,""),"")
A35: 15 | D35: =IF(E35="","",".") | M35: =J35 -> 0 | O35: =IF(K35="○",IF(K35="○",J35,""),"")
A36: 16 | M36: =J36 -> 0 | O36: =IF(K36="○",IF(K36="○",J36,""),"")
A37: 17 | D37: =IF(E37="","",".") | M37: =J37 -> 0 | O37: =IF(K37="○",IF(K37="○",J37,""),"")
A38: 18 | D38: =IF(E38="","",".") | M38: =J38 -> 0 | O38: =IF(K38="○",IF(K38="○",J38,""),"")
A39: 19 | D39: =IF(E39="","",".") | M39: =J39 -> 0 | O39: =IF(K39="○",IF(K39="○",J39,""),"")
A40: 20 | D40: =IF(E40="","",".") | M40: =J40 -> 0 | O40: =IF(K40="○",IF(K40="○",J40,""),"")
A41: 21 | D41: =IF(E41="","",".") | M41: =J41 -> 0 | O41: =IF(K41="○",IF(K41="○",J41,""),"")
...

Sheet スタッフ費内訳
A1: スタッフ費 内訳 | C1: 単年度助成 第１回募集 | G1: 作品名 | I1: =総表!C27 -> 0
A2: 役職名 | B2: スタッフ名 | C2: 備考 | D2: 支払先 | E2: 単価 （税込／円） | G2: 従事期間 | H2: 単位 | I2: 金額 （税込／円） | J2: 左記金額のうち R8.4.1～R9.3.31の期間に 支払いが完了した経費 （税込／円） | L2: 【記入要領】
E3: ＠ | I3: =IF(G3="",F3,F3*G3) -> 0 | L3: ・すべて税込で記入してください。 ・書ききれない場合は、行を増やさずに複数まとめて記載してください。 ・支払先が不明・未定の場合は空欄としてください。 ・単価×従事期間の形で記載できないものについては、単価欄に一式の金額を記載し、従事期間欄は空欄としてください。
E4: ＠ | I4: =IF(G4="",F4,F4*G4) -> 0
E5: ＠ | I5: =IF(G5="",F5,F5*G5) -> 0
E6: ＠ | I6: =IF(G6="",F6,F6*G6) -> 0
E7: ＠ | I7: =IF(G7="",F7,F7*G7) -> 0
E8: ＠ | I8: =IF(G8="",F8,F8*G8) -> 0
E9: ＠ | I9: =IF(G9="",F9,F9*G9) -> 0
E10: ＠ | I10: =IF(G10="",F10,F10*G10) -> 0
E11: ＠ | I11: =IF(G11="",F11,F11*G11) -> 0
E12: ＠ | I12: =IF(G12="",F12,F12*G12) -> 0
E13: ＠ | I13: =IF(G13="",F13,F13*G13) -> 0
E14: ＠ | I14: =IF(G14="",F14,F14*G14) -> 0
E15: ＠ | I15: =IF(G15="",F15,F15*G15) -> 0
... E53: ＠ | I53: =IF(G53="",F53,F53*G53) -> 0
A54: 小 計 | I54: =SUM(I3:I53) -> 0 | J54: =SUM(J3:J53) -> 0
G55: 整理番号 | I55: =総表!J50 -> 0
I57: 対象期間外支払額
I58: =I54-J54 -> 0

Sheet キャスト費内訳
A1: キャスト費 内訳 | C1: 単年度助成 第１回募集 | G1: 作品名 | I1: =総表!C27 -> 0
A2: 役名 | B2: キャスト名 | C2: 備考 | D2: 支払先 | E2: 単価 （税込／円） | G2: 従事期間 | H2: 単位 | I2: 金額 （税込／円） | J2: 左記金額のうち R8.4.1～R9.3.31の期間に 支払いが完了した経費 （税込／円） | L2: 【記入要領】
A3: メインキャスト | L3: ・すべて税込で記入してください。 ・書ききれない場合は、行を増やさずに複数まとめて記載してください。 ・支払先が不明・未定の場合は空欄としてください。 ・単価×従事期間の形で記載できないものについては、単価欄に一式の金額を記載し、従事期間欄は空欄としてください。
E4: ＠ | I4: =IF(G4="",F4,F4*G4) -> 0
E5: ＠ | I5: =IF(G5="",F5,F5*G5) -> 0
E6: ＠ | I6: =IF(G6="",F6,F6*G6) -> 0
E7: ＠ | I7: =IF(G7="",F7,F7*G7) -> 0
E8: ＠ | I8: =IF(G8="",F8,F8*G8) -> 0
A9: 助演キャスト
E10: ＠ | I10: =IF(G10="",F10,F10*G10) -> 0
E11: ＠ | I11: =IF(G11="",F11,F11*G11) -> 0
E12: ＠ | I12: =IF(G12="",F12,F12*G12) -> 0
E13: ＠ | I13: =IF(G13="",F13,F13*G13) -> 0
E14: ＠ | I14: =IF(G14="",F14,F14*G14) -> 0
E15: ＠ | I15: =IF(G15="",F15,F15*G15) -> 0
E16: ＠ | I16: =IF(G16="",F16,F16*G16) -> 0
E17: ＠ | I17: =IF(G17="",F17,F17*G17) -> 0
E18: ＠ | I18: =IF(G18="",F18,F18*G18) -> 0
E19: ＠ | I19: =IF(G19="",F19,F19*G19) -> 0
E20: ＠ | I20: =IF(G20="",F20,F20*G20) -> 0
E21: ＠ | I21: =IF(G21="",F21,F21*G21) -> 0
... E38: ＠ | I38: =IF(G38="",F38,F38*G38) -> 0
A39: エキストラ
E40: ＠ | I40: =IF(G40="",F40,F40*G40) -> 0
E41: ＠ | I41: =IF(G41="",F41,F41*G41) -> 0
E42: ＠ | I42: =IF(G42="",F42,F42*G42) -> 0
A43: 小 計 | I43: =SUM(I3:I42) -> 0 | J43: =SUM(J3:J42) -> 0
G44: 整理番号 | I44: =総表!J50 -> 0
I46: 対象期間外支払額
I47: =I43-J43 -> 0

Sheet 上映・配給、頒布計画書
A1: 上映・配給、頒布計画書
F5: 団体名 | G5: =総表!C15 -> 0
A6: 作 品 名 | C6: =総表!C27 -> 0
A7: 公開予定時期 | C7: 開始年月 | E7: ～ | F7: 終了年月 | H7: 公開期間 | J7: 確定状況
C8: =個表!E53 -> 0 | E8: ～ | F8: =個表!G53 -> 0 | H8: =個表!H53 -> 0 | I8: =個表!I53 -> 週間 | J8: =個表!J53 -> 予定
A9: 公 開 方 法 | C9: =個表!E54 -> 0 | J9: =個表!J54 -> 確定
A10: 公開予定場所 | C10: 東京○○○・ほか順次拡大検討中 | J10: 確定 | K10: ・公開予定場所を記入のうえ、確定状況を選択してください。
A11: 上映・配給、頒布等 | C11: 会社名等 | D11: =個表!E55 -> 0 | J11: 交渉中 | K11: ・会社名を記入のうえ、確定状況を選択してください。
C12: 所在地
C13: 実績
A14: 配信予定時期 | C14: 開始年月 | E14: ～ | F14: 終了年月 | H14: 公開期間 | J14: 確定状況
C15: =個表!E56 -> 0 | E15: ～ | F15: =個表!G56 -> 0 | H15: =個表!H56 -> 0 | I15: =個表!I56 -> 週間 | J15: =個表!J56 -> 予定
A16: 配信等 | C16: 会社名等 | D16: =個表!E57 -> 0 | J16: =個表!J57 -> 交渉中
C17: 所在地
C18: 実績
A19: 特 記 事 項 | K19: ・捕捉すべきことがあれば記入してください。
K20: ・バリアフリー字幕・音声ガイドの制作についてはここに記入してください。
K21: ・上映・配給、頒布等の状況が決定していない場合は、現在の状況や今後の予定等を詳しく記入してください。

Sheet 変更理由書
A2: 令和８年度 文化芸術振興費補助金
A3: 助 成 対 象 活 動 変 更 理 由 書
A4: （日本映画製作支援事業）
J6: 提出日： | K6: =総表!C7 -> 0 | M6: 当振興会に変更内容の連絡を行った日を、「2025/4/1」のように記入してください。
B7: 独立行政法人日本芸術文化振興会理事長 殿
F9: 団 体 名 | H9: =総表!C15 -> 0 | M9: 団体名～代表者氏名は総表から転記されますが、これらの事項に変更がある場合は、手入力で変更後の記載に修正してください。
F10: 代表者役職名 | H10: =総表!C16 -> 0
F11: 代表者氏名 | H11: =総表!C17 -> 0 | M11: 変更理由書には、押印の必要はありません。
B13: 助成対象活動名（作品名） | D13: =総表!C27 -> 0 | M13: 作品名は総表から転記されます。
B15: 変更内容
B16: ①
B17: 件名 | M17: 助成金交付申請書から変更のあった事項につき項目立てし、[変更前][変更後][変更理由]を記入してください。
B18: [変更前]
B19: [変更後] | M19: セル内に収まらない場合は、セルの高さを変更する等して、全ての記述が見えるようにしてください。２ページ目以降に続いても問題ありません。
B20: [変更理由]
B22: ②
B23: 件名
B24: [変更前]
B25: [変更後]
B26: [変更理由]
B28: ③
B29: 件名
B30: [変更前]
B31: [変更後]
B32: [変更理由]
B34: ④
... B38: [変更理由]

Sheet 誓約書
A3: 令和８年度 文化芸術振興費補助金
A4: 映画の公開に係る誓約書
A5: （日本映画製作支援事業）
H7: =総表!C7 -> 0 | M7: 提出日～代表者氏名は自動転記されます。
B8: 独立行政法人日本芸術文化振興会理事長 殿
E10: 〒 | G10: =総表!C11 -> 0 | H10: - | I10: =総表!E11 -> 0 | M10: 郵便番号～代表者氏名は総表から転記されます。
E11: 団体住所（所在地） | G11: =総表!C13&総表!D13&総表!H13 -> 選択してください
E12: 団体名（製作者） | G12: =総表!C15 -> 0
E13: 代表者職名 | G13: =総表!C16 -> 0
E14: 代表者氏名 | G14: =総表!C17 -> 0 | M14: 印刷・押印は不要です。
B17: 令和 年 月 日付け芸基芸第 号により助成金の交付の決定を受けた下記の活動について、 １．映画の完成後、原則として１年以内に広く一般に公開すること、公開できない場合は交付を受けた助成金を独立行政法人日本芸術文化振興会（以下、振興会）に全額返還することを誓約します。なお、公開日程が決定次第、速やかに振興会に報告します。 ２．映画の公開による収益状況を振興会に報告するとともに、当該映画の公開により相当の収益が生じた場合には、助成金交付額を限度としてその収益に相当する額の全部又は一部を振興会に納付することを誓約します。 | M17: 振興会から送付された、交付決定通知書の年月日及び文書番号を記入してください。
B19: 記
B21: 助成対象活動名 （作品名） | C21: =総表!C27 -> 0
B22: 映画の完成日 （初号試写を行った日） | C22: =総表!J37 -> 0
B23: 映画の公開予定日 | C23: =個表!E53 -> 0

Sheet 支払申請書
C3: 令和８年度文化芸術振興費補助金
C4: 助成金支払申請書
C5: （日本映画製作支援事業）
I7: =総表!C7 -> 0 | M7: ※総表に記入した情報が反映されます。
B9: 独立行政法人日本芸術文化振興会理事長 殿
E11: 〒 | G11: =総表!C11 -> 0 | H11: - | I11: =総表!E11 -> 0 | M11: ※総表に記入した情報が反映されます。
E12: 団体住所 （所在地） | G12: =総表!C13&総表!D13&総表!H13 -> 選択してください | M12: ※総表に記入した情報が反映されます。
E13: 団体名 （製作者） | G13: =総表!C15 -> 0 | M13: ※総表に記入した情報が反映されます。
E14: 代表者職名 | G14: =総表!C16 -> 0 | M14: ※総表に記入した情報が反映されます。
E15: 代表者氏名 | G15: =総表!C17 -> 0 | M15: 印刷・押印は不要です。
B17: 文化芸術振興費補助金による助成金交付要綱第１４条の規定に基づき、下記のとおり助成金の支払を申請します。
B19: 記
B21: １ 助成対象活動名 | E21: =総表!C27 -> 0 | M21: ※総表に記入した情報が反映されます。
B22: ２ 助成金の額 | E22: =総表!D47 -> 0 | M22: ※総表に記入した情報が反映されます。
B23: ３ 助成金振込先
B24: （１）金融機関名 | D24: 〇〇銀行 | M24: 通帳表紙裏面記載のとおりに記入してください。
B25: （２）支店名 | D25: ○○支店 | H25: 店番号 | J25: XXX
B26: （３）口座種別
B27: （４）口座番号 | D27: XXXXXXX
B28: 口座名義（ﾌﾘｶﾞﾅ） | M28: 通帳の表紙裏に記載のｶﾀｶﾅ(半角)をそのまま記入してください。
B29: （５）口座名義
