Workbook
Name GRN人数: #REF!
Name ああああ: #REF!
Name その他: #REF!
Name 一般人数: #REF!
Name 運搬費: #REF!
Name 演奏料: #REF!
Name 応募分野: #REF!
Name 応募分野: #REF!
Name 音楽費: [1]【非表示】経費一覧!$C$5:$C$15
Name 会場費: #REF!
Name 会場費: #REF!
Name 会場費・舞台費・運搬費: #REF!
Name 会場費・舞台費・運搬費: #REF!
Name 感染症対策経費: #REF!
Name 感染症対策経費: #REF!
Name 記録作成: #REF!
Name 稽古費: #REF!
Name 稽古費: #REF!
Name 後継者養成: #REF!
Name 交通費GRN: #REF!
Name 交通費一般: #REF!
Name 参照データ: #REF!
Name 事務経費: #REF!
Name 謝金・旅費・宣伝費等: #REF!
Name 謝金・旅費・宣伝費等: #REF!
Name 出演費・音楽費・文芸費: #REF!
Name 出演費・音楽費・文芸費: #REF!
Name 巡回運搬賃１: #REF!
Name 巡回運搬賃２: #REF!
Name 助成対象外経費: #REF!
Name 助成対象外経費: #REF!
Name 情報発信: #REF!
Name 人材育成: #REF!
Name 世界文化遺産活性化: #REF!
Name 宣伝費: #REF!
Name 地域の文化資源を核としたコミュニティの再生・活性化: #REF!
Name 地域の文化資源を活用した集客・交流: #REF!
Name 地域文化遺産活性化: #REF!
Name 伝統文化の継承体制の維持・確立: #REF!
Name 俳優出演料: #REF!
Name 配信費: [2]【非表示】経費一覧!$C$68:$C$70
Name 普及啓発: #REF!
Name 舞台費: #REF!
Name 舞台費: #REF!
Name 文芸費: [1]【非表示】経費一覧!$C$16:$C$41
Name 用具等整備: #REF!
Name 旅費: #REF!
Name 旅費: #REF!
Name 練習会場費: #REF!

Sheet 表紙
D3: 文化芸術活動基盤強化基金
C4: クリエイター等育成支援 コンテンツ制作・発信を支える中核的専門人材育成・確保等
C5: 【委託型】
D6: 企 画 提 案 書
N8: 令和８年 月 日
B10: 独立行政法人日本芸術文化振興会理事長 殿
H12: （申請者）
H14: 団 体 名
J16: 〒
H17: 住所（所在地）
H19: 代表者の職名・氏名
C22: 下記のとおり企画提案します。
C24: 記
C27: １．プロジェクト名 プロジェクト名は採択時の公表資料に 掲載されますのでご留意ください | V27: 単願
C28: ２．実 施 期 間 | H28: 契約日～令和１１年３月３１日
C29: ３．対 象 分 野
C30: 上欄で「その他」を選択した場合や、他の分野にまたがる取組となる場合は、右欄に当該分野名を記載してください
C31: ４．経 費 予 定 | H31: =MIN(ROUNDDOWN('１０．業務収支予算書'!C25/1000,0),200000) -> 0 | O31: 千円
C32: ５．知的財産権の帰属希望（※） | H32: 選択してください
C34: 【責任者・担当者連絡先】
C35: 事業責任者 | F35: 所属・職名 | K35: 電話
F36: フリガナ | K36: メールアドレス
F37: 氏名
C38: 経理責任者 | F38: 所属・職名 | K38: 電話
F39: フリガナ | K39: メールアドレス
F40: 氏名
C41: 事務担当者 | F41: 所属・職名 | K41: 電話
F42: フリガナ | K42: メールアドレス
F43: 氏名
C44: 資料の 送付先 | F44: 〒
C47: ※連携先については「７．連携先」にご記載ください。
C48: ※問合せは、原則として事業責任者と事務担当者へ連絡します。

Sheet １．団体概要
B1: １．団体の概要 ※審査要領１．審査項目「① 組織」にも留意
B3: フリガナ
B4: 団体名
B5: 代表者役職名 | I5: フリガナ
I6: 代表者氏名
B7: 郵便番号 | E7: ― | I7: 電話
B8: 住所 | I8: メールアドレス
I9: ウェブサイト
B10: 団体の種類 | G10: （ ） | J10: [その他の法人の場合は括弧内に具体的な種類名を記入] | W10: 公益財団法人 | X10: 公益社団法人 | Y10: 一般財団法人 | Z10: 一般社団法人 | AA10: 認定特定非営利活動法人 | AB10: 特定非営利活動法人 | AC10: 株式会社 | AD10: 合同会社 | AE10: 有限会社 | AF10: その他法人
B11: 団体設立年月 | G11: 法人設立年月 | O11: 法人番号
B12: 団体の体制 | D12: 役 職 員 | I12: 左記以外の構成員
D14: 経理担当者
D15: 監査担当者
B16: 沿 革
B17: 設立の趣旨・目的、理念
B18: 過去の取組とその実績
B19: 直近の文化庁及び他省庁等の支援事業への応募 | E19: 名称 | I19: 申請額 | N19: 概要
D20: 1 | M20: 千円
D21: 2 | M21: 千円
D22: 3 | M22: 千円
B23: 財務状況 （単位：千円） | D23: 年度 | E23: 総収入 | G23: 総支出 | I23: 当期損益 | L23: 累積損益 | N23: 総収入のうち当該年度に受けた公的な補助金・助成金
N24: 金額 | O24: 名称
D25: R5
D26: R6
D27: R7

Sheet ２．自己申告書
B1: ２．団体の運営状況（自己申告書）
B3: ①定款等
C4: ○定款等を適切に定めている。
B6: ②意思決定機関
C7: ○団体の意思等を決定する機関（理事会、取締役会等）を設置している。
C8: ○理事会等を定期的に開催している。
C9: ○理事会等の議事録を作成している。
C10: ○事業計画及び予算並びに事業報告及び決算について理事会等の決議を経ている。
C12: 以下は、理事会等を設置している場合のみ回答してください。
C13: ○理事会等の構成についてジェンダーバランスに配慮している。
B15: ③運営事務
C16: ○経理責任者は明確になっている。
C17: ○現預金の出納責任者は明確になっている。
C18: ○銀行印の管理責任者は明確になっている。
C19: ○事務の執行に当たっては、各担当者の権限と責任が明確になっている。
C20: ○業者選定等に関する規程等を整備している。
C21: ○予算執行に係る全ての証憑（契約書・領収書等）を善良な管理者の注意をもって５年間以上保管している。
C22: ○利益相反取引を行っていない（適切な承認手続きを経たものを除く）。
D23: ※利益相反行為とは、複数の当事者がいる場合における、一方の利益となり、かつ他方の不利益となる行為を指す。
C24: ○手許現金有高は、定期的に出納担当者以外の者が出納簿と照合している。
C25: ○法人税や消費税、源泉所得税等で必要な申告義務を適切に実施している。
B27: 財務
B28: ④財務諸表等
C29: ○会計帳簿（仕訳帳・総勘定元帳等）を作成している。
C30: ○財務諸表（貸借対照表・損益計算書等）を作成している。
C31: ○財務諸表（貸借対照表・損益計算書等）を公表している。
D32: ※本項目における「公表」とは、ウェブサイトに掲載していること、もしくは事務所に備え付け一般からの 要望があれば常に閲覧することができる状態にしていることを指す。
B34: ⑤監査
C35: ○監事・監査役等による会計監査又はこれに準じた内部監査を実施している。
C36: （「はい」の場合は当てはまるものにチェック）
D38: 外部監査（監査法人、公認会計士による会計監査）
D39: 内部監査（監事監査、監査役監査による会計監査）
D40: 内部監査に準じた監査（経理責任者による会計監査等）
C42: ○監事等による監査報告書を作成している。
B44: 活動環境
B45: ⑥労務管理
C46: ○就業規則を明文化している。
C47: ○労働基準法に則り、雇用者の労働時間・休憩・休日等を適切に管理している。
C48: ○雇用契約書の取り交わし等、雇用者に対して書面により労働条件を明示している。
C49: ○雇用者に対し、規則等で作品制作料・出演料等の単価を定めている。
...

Sheet ３．全体計画、４．観点対応
B1: ３．プロジェクト全体の計画（３年間） ※審査要領１．審査項目「② プロジェクト内容」～「④ 将来性」にも留意
B3: ○ プロジェクトの概要 ※この概要は採択時の公表資料に掲載されますのでご留意ください。
L4: ※枠内に収まるように400字程度で記載してください。
B6: 〇中核的専門人材について（中核的専門人材として対象となる職種、本プロジェクトの育成対象者） ※職種が複数ある場合には種別ごとの育成対象者を全て記載。
L7: ※枠内に収まるように400字程度で記載してください。
B9: 〇本プロジェクトの実施により、期待される成果や波及効果（我が国のコンテンツ制作現場を支える中核的専門人材の育成・確保、各分野の文化芸術活動の活性化、国際的プレゼンスの向上等）
L10: ※枠内に収まるように400字程度で記載してください。
B12: ４．「プロジェクトに盛り込むべき観点」への対応
B14: ① マンガ、アニメ、ゲーム、映像（実写映画及びアニメーション映画）、音楽（ポピュラーミュージック関係）等の分野において、海外発信を見据えたコンテンツ制作の高品質化・需要増大に対して必要となる中核的専門人材（アニメーター（原画、動画、背景）、美術、撮影、編集、音響、ゲームプログラマー、ゲームデザイナー、３DCGクリエイター、ＶＦＸクリエイター、サウンドクリエイター、マンガ翻訳者等）を育成・確保するためのプロジェクトであること。
B15: 右記を最低１つ以上含む必要があります。該当する取組に「〇」を付してください。 | E15: 基本的技術の理解・習得 | H15: 新技術（3DCG、VFX、AI等）活用能力の育成
E16: 卓越した技術の継承 | H16: 当該職種での定着・キャリア選択の支援
L17: ※枠内に収まるように400字程度で記載してください。
B19: ②本事業を通じて、中核的専門人材の育成・確保の持続的な基盤を形成する観点から、単一の主体における人材育成にとどまらない、業界への就業（他業種からの流入も可）や定着が考慮されているプロジェクトであること。
L20: ※枠内に収まるように400字程度で記載してください。
B22: ③産業界のニーズを踏まえた中核的専門人材の育成・確保が必要であるため、当該コンテンツ分野において具体的な人材ニーズが現に存在する、または、ニーズが生じると見込まれる人材の育成・確保に取り組むプロジェクトであること。当該人材ニーズが定量的に計測できる場合はそれも記載するとともに、プロジェクトの実施によりどの程度不足の解消に貢献できるのかも記載。
L23: ※枠内に収まるように400字程度で記載してください。
B25: ④プロジェクトを実施するに当たって適切な関係者・団体等と連携する計画となっており、それら連携 先と事前協議を行っている又は行う計画であること。（７．連携先、８．指導者等とも関係）
L26: ※枠内に収まるように400字程度で記載してください。

Sheet ５．プロジェクト詳細
B1: ５．プロジェクトの詳細
B3: （１）実施方針及び実施計画・スケジュール等の決定 ※「求める要件」（１）参照
B4: 〔具体的な取組内容〕
J5: ・「募集要領 求める要件」に対応するよう、プログラムの内容を業務項目別に詳細に記載してください。 ・具体的な実施場所、時期、実施イベント、連携関係先など、可能な限り具体的に記載してください。
B9: （２）事務局の設置と実施体制の明確化 ※「求める要件」（２）参照
B10: 〔具体的な取組内容〕
B14: （３）育成対象者の募集、選定等 （育成対象者について・条件・人数・選定の時期・方法・回数などを含める）
B15: 〔具体的な取組内容〕
J16: ＜記入例＞ 募集方法：自社サイト等で公募 募集回数：2回（前期／後期） 選定方法：指導者による書類審査
B20: （４）育成プログラムの実施 | E20: （プログラム名・期間・場所などを含める）
B21: 〔具体的な取組内容〕 | J21: ＜記入例＞ ＊＊＊＊＊に向けたニーズ調査や＊＊＊へ現地視察をおこない、プログラムの全体設計や研修内容に反映させる。また、＊＊＊＊＊教材（映像教材）を製作し▲▲研修で使用するほか、3年目には、教材をWebサイトに公開する。 【1年目】 ①「●●講習」 参加者を広く募集し、＊＊＊基礎知識の習得を目的とした＊＊＊を実施する。 期間：令和8年＊月～＊月（全3回を予定） 形式：オンライン 講師：＊＊＊ 定員：〇名/1回あたり ②「▲▲研修」 「●●講習」修了生の中から希望者を選抜し、＊＊＊＊を目的としてマンガ翻訳者を育成するための実地研修を開催する。 期間：令和8年＊月／＊月（全10回を予定） 会場：＊＊＊制作会社、＊＊＊スタジオ 研修生：「●●講習」修了生から〇名 【2年目】 ①「〇〇〇研修」 【3年目】 ①「□□□研修」
B27: （５）広報等の実施及び成果発表 ※「求める要件」（３）参照
B28: 〔具体的な取組内容〕
B32: （６）その他
B33: 〔具体的な取組内容〕

Sheet ６．スケジュール詳細
B1: ６．スケジュール詳細 ※「求める要件」（１）参照
B3: 業務項目 | C3: １年目 令和8年度（2026年度）
C4: 記 入 例 | L4: 1月 | M4: 2月 | N4: 3月
B5: （１）育成プログラムの実施方針・ 実施計画の策定
B6: （２）事務局の設置・実施体制の確立
B7: （３）育成対象者の選定
B8: （４）育成プログラムの実施
B9: （５）成果発表 | Q9: s
B10: （６）広報活動
B11: （７）その他（本事業の目的達成のために必要な事項）
B13: 業務項目 | C13: ２年目 令和9年度（2027年度）
C14: 4月 | D14: 5月 | E14: 6月 | F14: 7月 | G14: 8月 | H14: 9月 | I14: 10月 | J14: 11月 | K14: 12月 | L14: 1月 | M14: 2月 | N14: 3月
B15: （１）育成プログラムの実施方針・実施計画の策定
B16: （２）事務局の設置・実施体制の確立
B17: （３）育成対象者の選定
B18: （４）育成プログラムの実施
B19: （５）成果発表
B20: （６）広報活動
B21: （７）その他（本事業の目的達成のために必要な事項）
B23: 業務項目 | C23: ３年目 令和10年度（2028年度）
C24: 4月 | D24: 5月 | E24: 6月 | F24: 7月 | G24: 8月 | H24: 9月 | I24: 10月 | J24: 11月 | K24: 12月 | L24: 1月 | M24: 2月 | N24: 3月
B25: （１）育成プログラムの実施方針・実施計画の策定
B26: （２）事務局の設置・実施体制の確立
B27: （３）育成対象者の選定
B28: （４）育成プログラムの実施
B29: （５）成果発表
B30: （６）広報活動
B31: （７）その他（本事業の目的達成のために必要な事項）

Sheet ７．連携先、８．指導者等
B1: ７．連携先 ※「プロジェクトに盛り込むべき観点④」に対応
B3: 【連携先一覧】 | C3: ※本冊P.3「支援額」欄に記載する4億円上限の適用条件である「5者以上の団体が実施主体として事業に参画することが確約されている場合」とは、に該当する場合はとは、「実施主体内諾済」の団体が応募団体を除く5者以上ある場合を指します。 状況欄で「実施主体内諾済」「実施主体打診中」「実施主体検討中」のいずれかを選択してください。
B4: 団体名 | C4: 状況 | D4: 種別 | E4: 専門分野 | F4: 所在地 | G4: 役割 | H4: 本プロジェクトに関連した実績
V9: j
B13: ８．指導者等 ※「プロジェクトに盛り込むべき観点④」に対応
B15: 【本プロジェクトの中核となる者】
B16: 氏名 | C16: 状況 | E16: 専門分野 | F16: 所属・職名 | G16: 役割 | H16: 本プロジェクトに関連した実績
B20: 【指導者等一覧】
B21: 氏名 | C21: 状況 | E21: 専門分野 | F21: 所属・職名 | G21: 役割 | H21: 本プロジェクトに関連した実績
B30: ※ 欄が不足する場合は、適宜行を挿入してください。

Sheet ９．成果目標
B1: ９．成果目標
B3: 【アウトプット】
B4: コンテンツの制作・発信を支える中核的専門人材育成のためのプログラム実施件数 | D4: 目標値 | E4: ○○ 件
D5: 目標値の 設定根拠
D6: 計測・算出 方法
B8: 連携先の教育機関、企業・団体、自治体、拠点形成数 | D8: 目標値 | E8: ○○ 件
D9: 目標値の 設定根拠
D10: 計測・算出 方法
B12: 【短期アウトカム】
B13: コンテンツの制作・発信を支える中核的専門人材の育成数 | D13: 目標値 | E13: ○○ 人
D14: 目標値の 設定根拠
D15: 計測・算出 方法
B17: その他① | D17: 成果指標
D18: 目標値
D19: 目標値の 設定根拠
D20: 計測・算出 方法
B22: その他② | D22: 成果指標
D23: 目標値
D24: 目標値の 設定根拠
D25: 計測・算出 方法

Sheet １０．業務収支予算書
A1: １０．業務収支予算書
A3: １．予算総括表
A5: ※別シートの「経費予定額（令和8年度・1年目）」「経費予定額（令和9年度・2年目）」「経費予定額（令和10年度・3年目）」の
A6: 金額の合計が転記されます。
A7: ※本シートの金額欄は自動入力となります。
A9: 費目 | B9: 種別 | C9: 金額
A10: 人件費 | B10: 賃金 | C10: ='経費予定額(令和8年度・1年目)'!L18+'経費予定額(令和9年度・2年目) '!L18+'経費予定額(令和10年度・3年目)'!L18 -> 0
A11: 事業費 | B11: 諸謝金 | C11: ='経費予定額(令和8年度・1年目)'!L23+'経費予定額(令和9年度・2年目) '!L23+'経費予定額(令和10年度・3年目)'!L23 -> 0
B12: 旅費 | C12: ='経費予定額(令和8年度・1年目)'!L28+'経費予定額(令和9年度・2年目) '!L28+'経費予定額(令和10年度・3年目)'!L28 -> 0
B13: 借損料 | C13: ='経費予定額(令和8年度・1年目)'!L33+'経費予定額(令和9年度・2年目) '!L33+'経費予定額(令和10年度・3年目)'!L33 -> 0
B14: 消耗品費 | C14: ='経費予定額(令和8年度・1年目)'!L38+'経費予定額(令和9年度・2年目) '!L38+'経費予定額(令和10年度・3年目)'!L38 -> 0
B15: 会議費 | C15: ='経費予定額(令和8年度・1年目)'!L43+'経費予定額(令和9年度・2年目) '!L43+'経費予定額(令和10年度・3年目)'!L43 -> 0
B16: 通信 運搬費 | C16: ='経費予定額(令和8年度・1年目)'!L48+'経費予定額(令和9年度・2年目) '!L48+'経費予定額(令和10年度・3年目)'!L48 -> 0
B17: 雑役務費 | C17: ='経費予定額(令和8年度・1年目)'!L53+'経費予定額(令和9年度・2年目) '!L53+'経費予定額(令和10年度・3年目)'!L53 -> 0
B18: 保険料 | C18: ='経費予定額(令和8年度・1年目)'!L58+'経費予定額(令和9年度・2年目) '!L58+'経費予定額(令和10年度・3年目)'!L58 -> 0
B19: 消費税等 相当額 | C19: ='経費予定額(令和8年度・1年目)'!L62+'経費予定額(令和9年度・2年目) '!L62+'経費予定額(令和10年度・3年目)'!L62 -> 0 | E19: 事業費合計： | F19: =SUM(C11:C19) -> 0
A20: 再 委 託 費 | C20: ='経費予定額(令和8年度・1年目)'!L66+'経費予定額(令和9年度・2年目) '!L66+'経費予定額(令和10年度・3年目)'!L66 -> 0
A21: 総 事 業 費（a） | C21: ='経費予定額(令和8年度・1年目)'!L67+'経費予定額(令和9年度・2年目) '!L67+'経費予定額(令和10年度・3年目)'!L67 -> 0
A22: 一般管理費(ｂ) | C22: ='経費予定額(令和8年度・1年目)'!L68+'経費予定額(令和9年度・2年目) '!L68+'経費予定額(令和10年度・3年目)'!L68 -> 0
A23: 支出額合計（ａ＋ｂ） | C23: ='経費予定額(令和8年度・1年目)'!L69+'経費予定額(令和9年度・2年目) '!L69+'経費予定額(令和10年度・3年目)'!L69 -> 0
A24: 収入見込額（ｃ） | C24: ='経費予定額(令和8年度・1年目)'!L73+'経費予定額(令和9年度・2年目) '!L73+'経費予定額(令和10年度・3年目)'!L73 -> 0
A25: 差引合計（ａ＋ｂ－ｃ） | C25: ='経費予定額(令和8年度・1年目)'!L74+'経費予定額(令和9年度・2年目) '!L74+'経費予定額(令和10年度・3年目)'!L74 -> 0

Sheet 経費予定額(令和8年度・1年目)
A1: ◎各年度収支予定額
A2: ２．経費予定額（令和８年度・１年目）
A4: ※ | B4: ３年間の委託業務経費のうち、令和８年度（１年目）に掛かる経費の予定額を記入してください。
A5: ※ | B5: 必ず会計担当者が記載内容を確認するようにしてください。
A6: ※ | C6: 計算式が設定されていますので青色の欄には入力しないでください。
A7: ※ | B7: 金額欄には消費税等込みの金額を記入してください。
A8: ※ | B8: 軽減税率の対象となる経費は、「軽減税率」欄に○を記入してください。
A9: ※ | B9: 課税対象外(人件費・海外で支払う経費等（団体により異なるため会計担当者に確認すること）)の経費は、「課税対象外」欄に○を記入してください。
A10: ※ | B10: 欄が不足する場合は行を挿入してください。複数ページにわたっても結構です。
A11: ※ | B11: 提出前に必ず検算するようにしてください。
N12: 単位：円 | P12: ＜記入例＞
A13: 費目 | B13: 種別 | D13: 内訳（支払い内容） | E13: 数量・単位 | G13: 数量・単位 | I13: 数量・単位 | K13: 単価 | L13: 金額 | M13: 軽減 税率 | N13: 課税 対象外 | P13: 内訳（支払い内容） | R13: 数量・単位 | T13: 数量・単位 | V13: 数量・単位 | X13: 単価 （税込・円）
A14: 人件費 | B14: 賃金 | L14: =IF(ISNUMBER(K14),(PRODUCT(E14,G14,I14,K14)),"") | P14: 事業責任者 | R14: 1 | S14: 人 | T14: *** | U14: 時間 | V14: ** | W14: 日 | X14: ******
L15: =IF(ISNUMBER(K15),(PRODUCT(E15,G15,I15,K15)),"") | P15: マネージャー | R15: 1 | S15: 人 | T15: *** | U15: 時間 | V15: ** | W15: 日 | X15: ******
L16: =IF(ISNUMBER(K16),(PRODUCT(E16,G16,I16,K16)),"")
L17: =IF(ISNUMBER(K17),(PRODUCT(E17,G17,I17,K17)),"")
D18: 小計 | L18: =SUM(L14:L17) -> 0
A19: 事業費 | B19: 諸謝金 | L19: =IF(ISNUMBER(K19),(PRODUCT(E19,G19,I19,K19)),"") | P19: ＜記入例＞
L20: =IF(ISNUMBER(K20),(PRODUCT(E20,G20,I20,K20)),"") | P20: 内訳（支払い内容） | R20: 数量・単位 | T20: 数量・単位 | V20: 数量・単位 | X20: 単価 （税込・円）
L21: =IF(ISNUMBER(K21),(PRODUCT(E21,G21,I21,K21)),"") | P21: 講師謝金（＊＊＊氏） | R21: 1 | S21: 人 | T21: *** | U21: 時間 | V21: ** | W21: 日 | X21: ******
L22: =IF(ISNUMBER(K22),(PRODUCT(E22,G22,I22,K22)),"")
D23: 小計 | L23: =SUM(L19:L22) -> 0
B24: 旅費 | L24: =IF(ISNUMBER(K24),(PRODUCT(E24,G24,I24,K24)),"") | P24: ＜記入例＞
L25: =IF(ISNUMBER(K25),(PRODUCT(E25,G25,I25,K25)),"") | P25: 内訳（支払い内容） | R25: 数量・単位 | T25: 数量・単位 | V25: 数量・単位 | X25: 単価 （税込・円）
L26: =IF(ISNUMBER(K26),(PRODUCT(E26,G26,I26,K26)),"") | P26: 国内交通費（東京⇔大阪） | R26: ＊ | S26: 人 | T26: * | U26: 回 | X26: ****
L27: =IF(ISNUMBER(K27),(PRODUCT(E27,G27,I27,K27)),"") | P27: 航空運賃（日⇔英 ＊＊＊氏） | R27: 1 | S27: 人 | T27: * | U27: 回 | X27: ******
D28: 小計 | L28: =SUM(L24:L27) -> 0
B29: 借損料 | L29: =IF(ISNUMBER(K29),(PRODUCT(E29,G29,I29,K29)),"") | P29: ＜記入例＞
L30: =IF(ISNUMBER(K30),(PRODUCT(E30,G30,I30,K30)),"") | P30: 内訳（支払い内容） | R30: 数量・単位 | T30: 数量・単位 | V30: 数量・単位 | X30: 単価 （税込・円）
L31: =IF(ISNUMBER(K31),(PRODUCT(E31,G31,I31,K31)),"") | P31: 会場使用料（▲▲研修） | R31: 1 | S31: 式 | T31: * | U31: 日 | X31: *****
L32: =IF(ISNUMBER(K32),(PRODUCT(E32,G32,I32,K32)),"")
D33: 小計 | L33: =SUM(L29:L32) -> 0
B34: 消耗品費 | L34: =IF(ISNUMBER(K34),(PRODUCT(E34,G34,I34,K34)),"") | P34: ＜記入例＞
L35: =IF(ISNUMBER(K35),(PRODUCT(E35,G35,I35,K35)),"") | P35: 内訳（支払い内容） | R35: 数量・単位 | T35: 数量・単位 | V35: 数量・単位 | X35: 単価 （税込・円）
L36: =IF(ISNUMBER(K36),(PRODUCT(E36,G36,I36,K36)),"") | P36: 教材費（●●講習） | R36: 1 | S36: 式 | X36: *****
L37: =IF(ISNUMBER(K37),(PRODUCT(E37,G37,I37,K37)),"")
D38: 小計 | L38: =SUM(L34:L37) -> 0
B39: 会議費 | L39: =IF(ISNUMBER(K39),(PRODUCT(E39,G39,I39,K39)),"")
L40: =IF(ISNUMBER(K40),(PRODUCT(E40,G40,I40,K40)),"")
L41: =IF(ISNUMBER(K41),(PRODUCT(E41,G41,I41,K41)),"")
...

Sheet 経費予定額(令和9年度・2年目) 
A2: ３．経費予定額（令和９年度・２年目）
A4: ※ | B4: ３年間の委託業務経費のうち、令和９年度（２年目）に掛かる経費の予定額を記入してください。
A5: ※ | B5: 必ず会計担当者が記載内容を確認するようにしてください。
A6: ※ | C6: 計算式が設定されていますので青色の欄には入力しないでください。
A7: ※ | B7: 金額欄には消費税等込みの金額を記入してください。
A8: ※ | B8: 軽減税率の対象となる経費は、「軽減税率」欄に○を記入してください。
A9: ※ | B9: 課税対象外(人件費・海外で支払う経費等（団体により異なるため会計担当者に確認すること）)の経費は、「課税対象外」欄に○を記入してください。
A10: ※ | B10: 欄が不足する場合は行を挿入してください。複数ページにわたっても結構です。
A11: ※ | B11: 提出前に必ず検算するようにしてください。
N12: 単位：円 | P12: ＜記入例＞
A13: 費目 | B13: 種別 | D13: 内訳（支払い内容） | E13: 数量・単位 | G13: 数量・単位 | I13: 数量・単位 | K13: 単価 | L13: 金額 | M13: 軽減 税率 | N13: 課税 対象外 | P13: 内訳（支払い内容） | R13: 数量・単位 | T13: 数量・単位 | V13: 数量・単位 | X13: 単価 （税込・円）
A14: 人件費 | B14: 賃金 | L14: =IF(ISNUMBER(K14),(PRODUCT(E14,G14,I14,K14)),"") | P14: 事業責任者 | R14: 1 | S14: 人 | T14: *** | U14: 時間 | V14: ** | W14: 日 | X14: ******
L15: =IF(ISNUMBER(K15),(PRODUCT(E15,G15,I15,K15)),"") | P15: マネージャー | R15: 1 | S15: 人 | T15: *** | U15: 時間 | V15: ** | W15: 日 | X15: ******
L16: =IF(ISNUMBER(K16),(PRODUCT(E16,G16,I16,K16)),"")
L17: =IF(ISNUMBER(K17),(PRODUCT(E17,G17,I17,K17)),"")
D18: 小計 | L18: =SUM(L14:L17) -> 0
A19: 事業費 | B19: 諸謝金 | L19: =IF(ISNUMBER(K19),(PRODUCT(E19,G19,I19,K19)),"") | P19: ＜記入例＞
L20: =IF(ISNUMBER(K20),(PRODUCT(E20,G20,I20,K20)),"") | P20: 内訳（支払い内容） | R20: 数量・単位 | T20: 数量・単位 | V20: 数量・単位 | X20: 単価 （税込・円）
L21: =IF(ISNUMBER(K21),(PRODUCT(E21,G21,I21,K21)),"") | P21: 講師謝金（＊＊＊氏） | R21: 1 | S21: 人 | T21: *** | U21: 時間 | V21: ** | W21: 日 | X21: ******
L22: =IF(ISNUMBER(K22),(PRODUCT(E22,G22,I22,K22)),"")
D23: 小計 | L23: =SUM(L19:L22) -> 0
B24: 旅費 | L24: =IF(ISNUMBER(K24),(PRODUCT(E24,G24,I24,K24)),"") | P24: ＜記入例＞
L25: =IF(ISNUMBER(K25),(PRODUCT(E25,G25,I25,K25)),"") | P25: 内訳（支払い内容） | R25: 数量・単位 | T25: 数量・単位 | V25: 数量・単位 | X25: 単価 （税込・円）
L26: =IF(ISNUMBER(K26),(PRODUCT(E26,G26,I26,K26)),"") | P26: 国内交通費（東京⇔大阪） | R26: ＊ | S26: 人 | T26: * | U26: 回 | X26: ****
L27: =IF(ISNUMBER(K27),(PRODUCT(E27,G27,I27,K27)),"") | P27: 航空運賃（日⇔英 ＊＊＊氏） | R27: 1 | S27: 人 | T27: * | U27: 回 | X27: ******
D28: 小計 | L28: =SUM(L24:L27) -> 0
B29: 借損料 | L29: =IF(ISNUMBER(K29),(PRODUCT(E29,G29,I29,K29)),"") | P29: ＜記入例＞
L30: =IF(ISNUMBER(K30),(PRODUCT(E30,G30,I30,K30)),"") | P30: 内訳（支払い内容） | R30: 数量・単位 | T30: 数量・単位 | V30: 数量・単位 | X30: 単価 （税込・円）
L31: =IF(ISNUMBER(K31),(PRODUCT(E31,G31,I31,K31)),"") | P31: 会場使用料（▲▲研修） | R31: 1 | S31: 式 | T31: * | U31: 日 | X31: *****
L32: =IF(ISNUMBER(K32),(PRODUCT(E32,G32,I32,K32)),"")
D33: 小計 | L33: =SUM(L29:L32) -> 0
B34: 消耗品費 | L34: =IF(ISNUMBER(K34),(PRODUCT(E34,G34,I34,K34)),"") | P34: ＜記入例＞
L35: =IF(ISNUMBER(K35),(PRODUCT(E35,G35,I35,K35)),"") | P35: 内訳（支払い内容） | R35: 数量・単位 | T35: 数量・単位 | V35: 数量・単位 | X35: 単価 （税込・円）
L36: =IF(ISNUMBER(K36),(PRODUCT(E36,G36,I36,K36)),"") | P36: 教材費（●●講習） | R36: 1 | S36: 式 | X36: *****
L37: =IF(ISNUMBER(K37),(PRODUCT(E37,G37,I37,K37)),"")
D38: 小計 | L38: =SUM(L34:L37) -> 0
B39: 会議費 | L39: =IF(ISNUMBER(K39),(PRODUCT(E39,G39,I39,K39)),"")
L40: =IF(ISNUMBER(K40),(PRODUCT(E40,G40,I40,K40)),"")
L41: =IF(ISNUMBER(K41),(PRODUCT(E41,G41,I41,K41)),"")
L42: =IF(ISNUMBER(K42),(PRODUCT(E42,G42,I42,K42)),"")
...

Sheet 経費予定額(令和10年度・3年目)
A2: ４．経費予定額（令和１０年度・３年目）
A4: ※ | B4: ３年間の委託業務経費のうち、令和１０年度（３年目）に掛かる経費の予定額を記入してください。
A5: ※ | B5: 必ず会計担当者が記載内容を確認するようにしてください。
A6: ※ | C6: 計算式が設定されていますので青色の欄には入力しないでください。
A7: ※ | B7: 金額欄には消費税等込みの金額を記入してください。
A8: ※ | B8: 軽減税率の対象となる経費は、「軽減税率」欄に○を記入してください。
A9: ※ | B9: 課税対象外(人件費・海外で支払う経費等（団体により異なるため会計担当者に確認すること）)の経費は、「課税対象外」欄に○を記入してください。
A10: ※ | B10: 欄が不足する場合は行を挿入してください。複数ページにわたっても結構です。
A11: ※ | B11: 提出前に必ず検算するようにしてください。
N12: 単位：円 | P12: ＜記入例＞
A13: 費目 | B13: 種別 | D13: 内訳（支払い内容） | E13: 数量・単位 | G13: 数量・単位 | I13: 数量・単位 | K13: 単価 | L13: 金額 | M13: 軽減 税率 | N13: 課税 対象外 | P13: 内訳（支払い内容） | R13: 数量・単位 | T13: 数量・単位 | V13: 数量・単位 | X13: 単価 （税込・円）
A14: 人件費 | B14: 賃金 | L14: =IF(ISNUMBER(K14),(PRODUCT(E14,G14,I14,K14)),"") | P14: 事業責任者 | R14: 1 | S14: 人 | T14: *** | U14: 時間 | V14: ** | W14: 日 | X14: ******
L15: =IF(ISNUMBER(K15),(PRODUCT(E15,G15,I15,K15)),"") | P15: マネージャー | R15: 1 | S15: 人 | T15: *** | U15: 時間 | V15: ** | W15: 日 | X15: ******
L16: =IF(ISNUMBER(K16),(PRODUCT(E16,G16,I16,K16)),"")
L17: =IF(ISNUMBER(K17),(PRODUCT(E17,G17,I17,K17)),"")
D18: 小計 | L18: =SUM(L14:L17) -> 0
A19: 事業費 | B19: 諸謝金 | L19: =IF(ISNUMBER(K19),(PRODUCT(E19,G19,I19,K19)),"") | P19: ＜記入例＞
L20: =IF(ISNUMBER(K20),(PRODUCT(E20,G20,I20,K20)),"") | P20: 内訳（支払い内容） | R20: 数量・単位 | T20: 数量・単位 | V20: 数量・単位 | X20: 単価 （税込・円）
L21: =IF(ISNUMBER(K21),(PRODUCT(E21,G21,I21,K21)),"") | P21: 講師謝金（＊＊＊氏） | R21: 1 | S21: 人 | T21: *** | U21: 時間 | V21: ** | W21: 日 | X21: ******
L22: =IF(ISNUMBER(K22),(PRODUCT(E22,G22,I22,K22)),"")
D23: 小計 | L23: =SUM(L19:L22) -> 0
B24: 旅費 | L24: =IF(ISNUMBER(K24),(PRODUCT(E24,G24,I24,K24)),"") | P24: ＜記入例＞
L25: =IF(ISNUMBER(K25),(PRODUCT(E25,G25,I25,K25)),"") | P25: 内訳（支払い内容） | R25: 数量・単位 | T25: 数量・単位 | V25: 数量・単位 | X25: 単価 （税込・円）
L26: =IF(ISNUMBER(K26),(PRODUCT(E26,G26,I26,K26)),"") | P26: 国内交通費（東京⇔大阪） | R26: ＊ | S26: 人 | T26: * | U26: 回 | X26: ****
L27: =IF(ISNUMBER(K27),(PRODUCT(E27,G27,I27,K27)),"") | P27: 航空運賃（日⇔英 ＊＊＊氏） | R27: 1 | S27: 人 | T27: * | U27: 回 | X27: ******
D28: 小計 | L28: =SUM(L24:L27) -> 0
B29: 借損料 | L29: =IF(ISNUMBER(K29),(PRODUCT(E29,G29,I29,K29)),"") | P29: ＜記入例＞
L30: =IF(ISNUMBER(K30),(PRODUCT(E30,G30,I30,K30)),"") | P30: 内訳（支払い内容） | R30: 数量・単位 | T30: 数量・単位 | V30: 数量・単位 | X30: 単価 （税込・円）
L31: =IF(ISNUMBER(K31),(PRODUCT(E31,G31,I31,K31)),"") | P31: 会場使用料（▲▲研修会） | R31: 1 | S31: 式 | T31: * | U31: 日 | X31: *****
L32: =IF(ISNUMBER(K32),(PRODUCT(E32,G32,I32,K32)),"")
D33: 小計 | L33: =SUM(L29:L32) -> 0
B34: 消耗品費 | L34: =IF(ISNUMBER(K34),(PRODUCT(E34,G34,I34,K34)),"") | P34: ＜記入例＞
L35: =IF(ISNUMBER(K35),(PRODUCT(E35,G35,I35,K35)),"") | P35: 内訳（支払い内容） | R35: 数量・単位 | T35: 数量・単位 | V35: 数量・単位 | X35: 単価 （税込・円）
L36: =IF(ISNUMBER(K36),(PRODUCT(E36,G36,I36,K36)),"") | P36: 教材費（●●講習） | R36: 1 | S36: 式 | X36: *****
L37: =IF(ISNUMBER(K37),(PRODUCT(E37,G37,I37,K37)),"")
D38: 小計 | L38: =SUM(L34:L37) -> 0
B39: 会議費 | L39: =IF(ISNUMBER(K39),(PRODUCT(E39,G39,I39,K39)),"")
L40: =IF(ISNUMBER(K40),(PRODUCT(E40,G40,I40,K40)),"")
L41: =IF(ISNUMBER(K41),(PRODUCT(E41,G41,I41,K41)),"")
L42: =IF(ISNUMBER(K42),(PRODUCT(E42,G42,I42,K42)),"")
...

Sheet 再委託
C2: ５．再委託に関する事項
D4: 再委託の有無 | I4: 選択してください
D5: ※業務の実施そのものの一部を第三者に委任する（作業内容・納品物を発注元が具体的に指示しない）場合は「有り」を選択し、以下を記入してください。
D6: ※再委託しない場合は「無し」を選択してください。
C8: （１）再委託
D9: ※ 複数の者に再委託を行う場合は、表を増やして再委託先毎に記載してください。
D10: 再委託の相手方の住所及び氏名
D12: 再委託を行う業務の範囲
D14: 再委託の必要性
D16: 再委託金額 （単位：円）
C19: （２）履行体制に関する事項
D20: ※ 再委託の相手方がさらに再委託を行う等、複数の段階で再委託を行う場合に記載してください。
D21: 再々委託の相手方の住所及び氏名
D23: 再々委託を行う業務の範囲

Sheet 誓約書
B3: 誓 約 書
C5: 当法人（団体）は、下記１及び２のいずれにも該当しません。また、将来においても該当することはありません。 この誓約が虚偽であり、又はこの誓約に反したことにより、当方が不利益を被ることとなっても、異議は一切申し立てません。 また、当方の個人情報を警察に提供することについて同意します。
B7: 記
D9: １ 契約の相手方として不適当な者 (1) 法人等（個人、法人又は団体をいう。）の役員等（個人である場合はその者、法人であ る場合は役員又は支店若しくは営業所（常時契約を締結する事務所をいう。）の代表者、 団体である場合は代表者、理事等、その他経営に実質的に関与している者をいう。）が、 暴力団（暴力団員による不当な行為の防止等に関する法律（平成３年法律第77号）第２ 条第２号に規定する暴力団をいう。以下同じ）又は暴力団員（同法第２条第６号に規定 する暴力団員をいう。以下同じ。）であるとき (2) 役員等が、自己、自社若しくは第三者の不正の利益を図る目的、又は第三者に損害を 加える目的をもって、暴力団又は暴力団員を利用するなどしているとき (3) 役員等が、暴力団又は暴力団員に対して、資金等を供給し、又は便宜を供与する など直接的あるいは積極的に暴力団の維持、運営に協力し、若しくは関与しているとき (4) 役員等が、暴力団又は暴力団員であることを知りながらこれを不当に利用するなど しているとき (5) 役員等が、暴力団又は暴力団員と社会的に非難されるべき関係を有しているとき
D10: ２ 契約の相手方として不適当な行為をする者 (1) 暴力的な要求行為を行う者 (2) 法的な責任を超えた不当な要求行為を行う者 (3) 取引に関して脅迫的な言動をし、又は暴力を用いる行為を行う者 (4) 偽計又は威力を用いて契約担当官等の業務を妨害する行為を行う者 (5) その他前各号に準ずる行為を行う者
D12: 令和 年 月 日
E13: 住所（又は所在地）
E15: 団体名
E16: 代表者役職名・氏名

Sheet 芸文振確認用
A1: 表紙 | B1: 応募日時 | C1: =表紙!N8 -> 令和８年 月 日
B2: 団体名 | C2: =表紙!K14 -> 0
B3: 〒 | C3: =表紙!K16 -> 0
B4: 住所（所在地） | C4: =表紙!K17 -> 0
B5: 代表者の職名・氏名 | C5: =表紙!K19 -> 0
B6: １．プロジェクト名 プロジェクト名は採択時の公表資料に 掲載されますのでご留意ください | C6: =表紙!H27 -> 0
B7: ２．実 施 期 間 | C7: =表紙!H28 -> 契約日～令和１１年３月３１日
B8: ３．対 象 分 野 | C8: =表紙!H29 -> 0
B9: 「その他」の場合、右欄に当該分野名を記載してください | C9: =表紙!H30 -> 0
B10: ４．経 費 予 定 （千円） | C10: =表紙!H31 -> 0
B11: ５．知的財産権の帰属希望（※） | C11: =表紙!H32 -> 選択してください
B12: 事業責任者 所属・職名 | C12: =表紙!G35 -> 0
B13: 事業責任者 フリガナ | C13: =表紙!G36 -> 0
B14: 事業責任者 氏名 | C14: =表紙!G37 -> 0
B15: 事業責任者 電話 | C15: =表紙!M35 -> 0
B16: 事業責任者 メールアドレス | C16: =表紙!M36 -> 0
B17: 経理責任者 所属・職名 | C17: =表紙!G38 -> 0
B18: 経理責任者 フリガナ | C18: =表紙!G39 -> 0
B19: 経理責任者 氏名 | C19: =表紙!G40 -> 0
B20: 経理責任者 電話 | C20: =表紙!M38 -> 0
B21: 経理責任者 メールアドレス | C21: =表紙!M39 -> 0
B22: 事務担当者 所属・職名 | C22: =表紙!G41 -> 0
B23: 事務担当者 フリガナ | C23: =表紙!G42 -> 0
B24: 事務担当者 氏名 | C24: =表紙!G43 -> 0
B25: 事務担当者 電話 | C25: =表紙!M41 -> 0
B26: 事務担当者 メールアドレス | C26: =表紙!M42 -> 0
B27: 資料の 送付先 | C27: =表紙!F44&表紙!F45 -> 〒
A28: １．団体概要 | B28: フリガナ | C28: ='１．団体概要'!D3 -> 0
B29: 団体名 | C29: ='１．団体概要'!D4 -> 0
B30: 代表者役職名 | C30: ='１．団体概要'!D5 -> 0
B31: フリガナ | C31: ='１．団体概要'!N5 -> 0
B32: 代表者氏名 | C32: ='１．団体概要'!N6 -> 0
B33: 郵便番号 | C33: ='１．団体概要'!D7&" - "&'１．団体概要'!F7 -> -
B34: 住所 | C34: ='１．団体概要'!D8 -> 0
B35: 電話 | C35: ='１．団体概要'!N7 -> 0
B36: メールアドレス | C36: ='１．団体概要'!N8 -> 0
B37: ウェブサイト | C37: ='１．団体概要'!N9 -> 0
B38: 団体の種類① | C38: ='１．団体概要'!D10 -> 0
B39: 団体の種類② | C39: ='１．団体概要'!G10 -> （ ）
B40: 団体設立年月 | C40: ='１．団体概要'!D11 -> 0
...
